Workbook

Sheet columnsExportTest
A1: 序号 | B1: 年级 | C1: 学院 | D1: 专业 | E1: 班级 | F1: 学号 | G1: 性别 | H1: 平均绩点 | I1: 专业排名（绩点） | J1: 综测总分 | K1: 年级排名 | L1: 专业排名 | M1: 体测成绩 | N1: 是否体测未达到80/有挂科/有违纪/缓考 | O1: 拟获奖 | P1: 姓名
A3: 1 | B3: 2023 | C3: 人工智能与低空技术学院 | D3: 人工智能 | E3: 23人工智能1 | F3: 202334610105 | G3: 男 | H3: 3.57 | I3: 100 | J3: 21 | K3: 256 | L3: 0 | M3: =IF(COUNTIF(体测成绩!$A$2:$A$530,$F3&"")=0,"",IF(VLOOKUP($F3&"",体测成绩!$A$2:$B$530,2,FALSE)="免测",80,VLOOKUP($F3&"",体测成绩!$A$2:$B$530,2,FALSE))) | N3: =IF(OR(IFERROR(VALUE(M3)<80,FALSE),COUNTIF(缓考名单!$A$2:$A$49,$F3&"")>0,COUNTIF(缓考名单!$B$2:$B$49,#REF!)>0,IFERROR(VLOOKUP($F3&"",学年成绩!$A$2:$B$462,2,FALSE)<>"100%",FALSE)),"是","")
A4: 2 | B4: 2023 | C4: 人工智能与低空技术学院 | D4: 人工智能 | E4: 23人工智能1 | F4: 202334610120 | G4: 男 | H4: 4.1 | I4: 35 | J4: 21 | K4: 256 | L4: 0 | M4: =IF(COUNTIF(体测成绩!$A$2:$A$530,$F4&"")=0,"",IF(VLOOKUP($F4&"",体测成绩!$A$2:$B$530,2,FALSE)="免测",80,VLOOKUP($F4&"",体测成绩!$A$2:$B$530,2,FALSE))) | N4: =IF(OR(IFERROR(VALUE(M4)<80,FALSE),COUNTIF(缓考名单!$A$2:$A$49,$F4&"")>0,COUNTIF(缓考名单!$B$2:$B$49,#REF!)>0,IFERROR(VLOOKUP($F4&"",学年成绩!$A$2:$B$462,2,FALSE)<>"100%",FALSE)),"是","")
A5: 3 | B5: 2023 | C5: 人工智能与低空技术学院 | D5: 人工智能 | E5: 23人工智能1 | F5: 202334610125 | G5: 男 | H5: 3.77 | I5: 81 | J5: 21 | K5: 256 | L5: 0 | M5: =IF(COUNTIF(体测成绩!$A$2:$A$530,$F5&"")=0,"",IF(VLOOKUP($F5&"",体测成绩!$A$2:$B$530,2,FALSE)="免测",80,VLOOKUP($F5&"",体测成绩!$A$2:$B$530,2,FALSE))) | N5: =IF(OR(IFERROR(VALUE(M5)<80,FALSE),COUNTIF(缓考名单!$A$2:$A$49,$F5&"")>0,COUNTIF(缓考名单!$B$2:$B$49,#REF!)>0,IFERROR(VLOOKUP($F5&"",学年成绩!$A$2:$B$462,2,FALSE)<>"100%",FALSE)),"是","")
A6: 4 | B6: 2023 | C6: 人工智能与低空技术学院 | D6: 人工智能 | E6: 23人工智能1 | F6: 202334610117 | G6: 男 | H6: 3.55 | I6: 104 | J6: 21 | K6: 256 | L6: 0 | M6: =IF(COUNTIF(体测成绩!$A$2:$A$530,$F6&"")=0,"",IF(VLOOKUP($F6&"",体测成绩!$A$2:$B$530,2,FALSE)="免测",80,VLOOKUP($F6&"",体测成绩!$A$2:$B$530,2,FALSE))) | N6: =IF(OR(IFERROR(VALUE(M6)<80,FALSE),COUNTIF(缓考名单!$A$2:$A$49,$F6&"")>0,COUNTIF(缓考名单!$B$2:$B$49,#REF!)>0,IFERROR(VLOOKUP($F6&"",学年成绩!$A$2:$B$462,2,FALSE)<>"100%",FALSE)),"是","")
A7: 5 | B7: 2023 | C7: 人工智能与低空技术学院 | D7: 人工智能 | E7: 23人工智能1 | F7: 202334610106 | G7: 女 | H7: 4.06 | I7: 41 | J7: 30.25 | K7: 228 | L7: 0 | M7: =IF(COUNTIF(体测成绩!$A$2:$A$530,$F7&"")=0,"",IF(VLOOKUP($F7&"",体测成绩!$A$2:$B$530,2,FALSE)="免测",80,VLOOKUP($F7&"",体测成绩!$A$2:$B$530,2,FALSE))) | N7: =IF(OR(IFERROR(VALUE(M7)<80,FALSE),COUNTIF(缓考名单!$A$2:$A$49,$F7&"")>0,COUNTIF(缓考名单!$B$2:$B$49,#REF!)>0,IFERROR(VLOOKUP($F7&"",学年成绩!$A$2:$B$462,2,FALSE)<>"100%",FALSE)),"是","")
A8: 6 | B8: 2023 | C8: 人工智能与低空技术学院 | D8: 人工智能 | E8: 23人工智能1 | F8: 202334610113 | G8: 女 | H8: 4.01 | I8: 49 | J8: 21 | K8: 256 | L8: 0 | M8: =IF(COUNTIF(体测成绩!$A$2:$A$530,$F8&"")=0,"",IF(VLOOKUP($F8&"",体测成绩!$A$2:$B$530,2,FALSE)="免测",80,VLOOKUP($F8&"",体测成绩!$A$2:$B$530,2,FALSE))) | N8: =IF(OR(IFERROR(VALUE(M8)<80,FALSE),COUNTIF(缓考名单!$A$2:$A$49,$F8&"")>0,COUNTIF(缓考名单!$B$2:$B$49,#REF!)>0,IFERROR(VLOOKUP($F8&"",学年成绩!$A$2:$B$462,2,FALSE)<>"100%",FALSE)),"是","")
A9: 7 | B9: 2023 | C9: 人工智能与低空技术学院 | D9: 人工智能 | E9: 23人工智能1 | F9: 202334610132 | G9: 男 | H9: 4.27 | I9: 20 | J9: 21 | K9: 256 | L9: 0 | M9: =IF(COUNTIF(体测成绩!$A$2:$A$530,$F9&"")=0,"",IF(VLOOKUP($F9&"",体测成绩!$A$2:$B$530,2,FALSE)="免测",80,VLOOKUP($F9&"",体测成绩!$A$2:$B$530,2,FALSE))) | N9: =IF(OR(IFERROR(VALUE(M9)<80,FALSE),COUNTIF(缓考名单!$A$2:$A$49,$F9&"")>0,COUNTIF(缓考名单!$B$2:$B$49,#REF!)>0,IFERROR(VLOOKUP($F9&"",学年成绩!$A$2:$B$462,2,FALSE)<>"100%",FALSE)),"是","")
A10: 8 | B10: 2023 | C10: 人工智能与低空技术学院 | D10: 人工智能 | E10: 23人工智能1 | F10: 202334610131 | G10: 男 | H10: 4.34 | I10: 15 | J10: 21 | K10: 256 | L10: 0 | M10: =IF(COUNTIF(体测成绩!$A$2:$A$530,$F10&"")=0,"",IF(VLOOKUP($F10&"",体测成绩!$A$2:$B$530,2,FALSE)="免测",80,VLOOKUP($F10&"",体测成绩!$A$2:$B$530,2,FALSE))) | N10: =IF(OR(IFERROR(VALUE(M10)<80,FALSE),COUNTIF(缓考名单!$A$2:$A$49,$F10&"")>0,COUNTIF(缓考名单!$B$2:$B$49,#REF!)>0,IFERROR(VLOOKUP($F10&"",学年成绩!$A$2:$B$462,2,FALSE)<>"100%",FALSE)),"是","")
A11: 9 | B11: 2023 | C11: 人工智能与低空技术学院 | D11: 人工智能 | E11: 23人工智能1 | F11: 202334610127 | G11: 女 | H11: 4.2 | I11: 25 | J11: 31.7 | K11: 225 | L11: 0 | M11: =IF(COUNTIF(体测成绩!$A$2:$A$530,$F11&"")=0,"",IF(VLOOKUP($F11&"",体测成绩!$A$2:$B$530,2,FALSE)="免测",80,VLOOKUP($F11&"",体测成绩!$A$2:$B$530,2,FALSE))) | N11: =IF(OR(IFERROR(VALUE(M11)<80,FALSE),COUNTIF(缓考名单!$A$2:$A$49,$F11&"")>0,COUNTIF(缓考名单!$B$2:$B$49,#REF!)>0,IFERROR(VLOOKUP($F11&"",学年成绩!$A$2:$B$462,2,FALSE)<>"100%",FALSE)),"是","")
A12: 10 | B12: 2023 | C12: 人工智能与低空技术学院 | D12: 人工智能 | E12: 23人工智能1 | F12: 202334610128 | G12: 男 | H12: 4.03 | I12: 45 | J12: 24.75 | K12: 240 | L12: 0 | M12: =IF(COUNTIF(体测成绩!$A$2:$A$530,$F12&"")=0,"",IF(VLOOKUP($F12&"",体测成绩!$A$2:$B$530,2,FALSE)="免测",80,VLOOKUP($F12&"",体测成绩!$A$2:$B$530,2,FALSE))) | N12: =IF(OR(IFERROR(VALUE(M12)<80,FALSE),COUNTIF(缓考名单!$A$2:$A$49,$F12&"")>0,COUNTIF(缓考名单!$B$2:$B$49,#REF!)>0,IFERROR(VLOOKUP($F12&"",学年成绩!$A$2:$B$462,2,FALSE)<>"100%",FALSE)),"是","")
A13: 11 | B13: 2023 | C13: 人工智能与低空技术学院 | D13: 人工智能 | E13: 23人工智能1 | F13: 202334610111 | G13: 男 | H13: 3.45 | I13: 115 | J13: 21 | K13: 256 | L13: 0 | M13: =IF(COUNTIF(体测成绩!$A$2:$A$530,$F13&"")=0,"",IF(VLOOKUP($F13&"",体测成绩!$A$2:$B$530,2,FALSE)="免测",80,VLOOKUP($F13&"",体测成绩!$A$2:$B$530,2,FALSE))) | N13: =IF(OR(IFERROR(VALUE(M13)<80,FALSE),COUNTIF(缓考名单!$A$2:$A$49,$F13&"")>0,COUNTIF(缓考名单!$B$2:$B$49,#REF!)>0,IFERROR(VLOOKUP($F13&"",学年成绩!$A$2:$B$462,2,FALSE)<>"100%",FALSE)),"是","")
A14: 12 | B14: 2023 | C14: 人工智能与低空技术学院 | D14: 人工智能 | E14: 23人工智能1 | F14: 202334610110 | G14: 女 | H14: 4.46 | I14: 4 | J14: 41.6 | K14: 207 | L14: 0 | M14: =IF(COUNTIF(体测成绩!$A$2:$A$530,$F14&"")=0,"",IF(VLOOKUP($F14&"",体测成绩!$A$2:$B$530,2,FALSE)="免测",80,VLOOKUP($F14&"",体测成绩!$A$2:$B$530,2,FALSE))) | N14: =IF(OR(IFERROR(VALUE(M14)<80,FALSE),COUNTIF(缓考名单!$A$2:$A$49,$F14&"")>0,COUNTIF(缓考名单!$B$2:$B$49,#REF!)>0,IFERROR(VLOOKUP($F14&"",学年成绩!$A$2:$B$462,2,FALSE)<>"100%",FALSE)),"是","")
... A203: 201 | B203: 2024 | C203: 人工智能与低空技术学院 | D203: 人工智能 | E203: 24人工智能3 | F203: 202434610307 | G203: 男 | H203: 0 | I203: 0 | J203: 20.86 | K203: 415 | L203: 94 | M203: =IF(COUNTIF(体测成绩!$A$2:$A$530,$F203&"")=0,"",IF(VLOOKUP($F203&"",体测成绩!$A$2:$B$530,2,FALSE)="免测",80,VLOOKUP($F203&"",体测成绩!$A$2:$B$530,2,FALSE))) | N203: =IF(OR(IFERROR(VALUE(M203)<80,FALSE),COUNTIF(缓考名单!$A$2:$A$49,$F203&"")>0,COUNTIF(缓考名单!$B$2:$B$49,#REF!)>0,IFERROR(VLOOKUP($F203&"",学年成绩!$A$2:$B$462,2,FALSE)<>"100%",FALSE)),"是","")
A204: =ROW(A1) -> 1 | B204: 2025 | C204: 人工智能与低空技术学院 | D204: 电子信息科学与技术 | E204: 25电信科技3 | F204: 202534410323 | G204: 女 | H204: 4.63 | I204: 1 | J204: 98.46 | K204: =ROW()-203 -> 1 | L204: 1 | M204: =IF(COUNTIF(体测成绩!$A$2:$A$530,$F204&"")=0,"",IF(VLOOKUP($F204&"",体测成绩!$A$2:$B$530,2,FALSE)="免测",80,VLOOKUP($F204&"",体测成绩!$A$2:$B$530,2,FALSE))) -> 83.7 | N204: =IF(OR(IFERROR(VALUE(M204)<80,FALSE),COUNTIF(缓考名单!$A$2:$A$49,$F204&"")>0,COUNTIF(缓考名单!$B$2:$B$49,#REF!)>0,IFERROR(VLOOKUP($F204&"",学年成绩!$A$2:$B$462,2,FALSE)<>"100%",FALSE)),"是","") | O204: 一等奖 | P204: 吴玥
A205: =ROW(A2) -> 2 | B205: 2025 | C205: 人工智能与低空技术学院 | D205: 人工智能（昇腾AI智创班） | E205: 25人工智能(智创班)1 | F205: 202534630120 | G205: 女 | H205: 4.57 | I205: 2 | J205: 97.95 | K205: =ROW()-203 -> 2 | L205: 1 | M205: =IF(COUNTIF(体测成绩!$A$2:$A$530,$F205&"")=0,"",IF(VLOOKUP($F205&"",体测成绩!$A$2:$B$530,2,FALSE)="免测",80,VLOOKUP($F205&"",体测成绩!$A$2:$B$530,2,FALSE))) -> 86.7 | N205: =IF(OR(IFERROR(VALUE(M205)<80,FALSE),COUNTIF(缓考名单!$A$2:$A$49,$F205&"")>0,COUNTIF(缓考名单!$B$2:$B$49,#REF!)>0,IFERROR(VLOOKUP($F205&"",学年成绩!$A$2:$B$462,2,FALSE)<>"100%",FALSE)),"是","") | O205: 一等奖 | P205: 潘仕颖
A206: =ROW(A3) -> 3 | B206: 2025 | C206: 人工智能与低空技术学院 | D206: 人工智能 | E206: 25人工智能2 | F206: 202534610232 | G206: 男 | H206: 4.33 | I206: 8 | J206: 94.66 | K206: =ROW()-203 -> 3 | L206: 1 | M206: =IF(COUNTIF(体测成绩!$A$2:$A$530,$F206&"")=0,"",IF(VLOOKUP($F206&"",体测成绩!$A$2:$B$530,2,FALSE)="免测",80,VLOOKUP($F206&"",体测成绩!$A$2:$B$530,2,FALSE))) -> 84.5 | N206: =IF(OR(IFERROR(VALUE(M206)<80,FALSE),COUNTIF(缓考名单!$A$2:$A$49,$F206&"")>0,COUNTIF(缓考名单!$B$2:$B$49,#REF!)>0,IFERROR(VLOOKUP($F206&"",学年成绩!$A$2:$B$462,2,FALSE)<>"100%",FALSE)),"是","") | O206: 一等奖 | P206: 郑胜
A207: =ROW(A4) -> 4 | B207: 2025 | C207: 人工智能与低空技术学院 | D207: 人工智能 | E207: 25人工智能2 | F207: 202534610210 | G207: 女 | H207: 4.42 | I207: 4 | J207: 94.54 | K207: =ROW()-203 -> 4 | L207: 2 | M207: =IF(COUNTIF(体测成绩!$A$2:$A$530,$F207&"")=0,"",IF(VLOOKUP($F207&"",体测成绩!$A$2:$B$530,2,FALSE)="免测",80,VLOOKUP($F207&"",体测成绩!$A$2:$B$530,2,FALSE))) -> 85.6 | N207: =IF(OR(IFERROR(VALUE(M207)<80,FALSE),COUNTIF(缓考名单!$A$2:$A$49,$F207&"")>0,COUNTIF(缓考名单!$B$2:$B$49,#REF!)>0,IFERROR(VLOOKUP($F207&"",学年成绩!$A$2:$B$462,2,FALSE)<>"100%",FALSE)),"是","") -> 是 | P207: 李佳仪
A208: =ROW(A5) -> 5 | B208: 2025 | C208: 人工智能与低空技术学院 | D208: 集成电路设计与集成系统（龙芯创新班） | E208: 25集成电路(龙芯班)1 | F208: 202534720129 | G208: 女 | H208: 4.44 | I208: 2 | J208: 94.43 | K208: =ROW()-203 -> 5 | L208: 1 | M208: =IF(COUNTIF(体测成绩!$A$2:$A$530,$F208&"")=0,"",IF(VLOOKUP($F208&"",体测成绩!$A$2:$B$530,2,FALSE)="免测",80,VLOOKUP($F208&"",体测成绩!$A$2:$B$530,2,FALSE))) -> 102.0 | N208: =IF(OR(IFERROR(VALUE(M208)<80,FALSE),COUNTIF(缓考名单!$A$2:$A$49,$F208&"")>0,COUNTIF(缓考名单!$B$2:$B$49,#REF!)>0,IFERROR(VLOOKUP($F208&"",学年成绩!$A$2:$B$462,2,FALSE)<>"100%",FALSE)),"是","") | O208: 一等奖 | P208: 钟沁言
A209: =ROW(A6) -> 6 | B209: 2025 | C209: 人工智能与低空技术学院 | D209: 人工智能 | E209: 25人工智能2 | F209: 202534610202 | G209: 女 | H209: 4.45 | I209: 3 | J209: 94.39 | K209: =ROW()-203 -> 6 | L209: 3 | M209: =IF(COUNTIF(体测成绩!$A$2:$A$530,$F209&"")=0,"",IF(VLOOKUP($F209&"",体测成绩!$A$2:$B$530,2,FALSE)="免测",80,VLOOKUP($F209&"",体测成绩!$A$2:$B$530,2,FALSE))) -> 80.9 | N209: =IF(OR(IFERROR(VALUE(M209)<80,FALSE),COUNTIF(缓考名单!$A$2:$A$49,$F209&"")>0,COUNTIF(缓考名单!$B$2:$B$49,#REF!)>0,IFERROR(VLOOKUP($F209&"",学年成绩!$A$2:$B$462,2,FALSE)<>"100%",FALSE)),"是","") | O209: 一等奖 | P209: 陈思颖
A210: =ROW(A7) -> 7 | B210: 2025 | C210: 人工智能与低空技术学院 | D210: 电子信息工程 | E210: 25电信1 | F210: 202534310115 | G210: 男 | H210: 4.44 | I210: 6 | J210: 93.84 | K210: =ROW()-203 -> 7 | L210: 1 | M210: =IF(COUNTIF(体测成绩!$A$2:$A$530,$F210&"")=0,"",IF(VLOOKUP($F210&"",体测成绩!$A$2:$B$530,2,FALSE)="免测",80,VLOOKUP($F210&"",体测成绩!$A$2:$B$530,2,FALSE))) -> 70.6 | N210: =IF(OR(IFERROR(VALUE(M210)<80,FALSE),COUNTIF(缓考名单!$A$2:$A$49,$F210&"")>0,COUNTIF(缓考名单!$B$2:$B$49,#REF!)>0,IFERROR(VLOOKUP($F210&"",学年成绩!$A$2:$B$462,2,FALSE)<>"100%",FALSE)),"是","") -> 是 | P210: 林楷旭
A211: =ROW(A8) -> 8 | B211: 2025 | C211: 人工智能与低空技术学院 | D211: 集成电路设计与集成系统（龙芯创新班） | E211: 25集成电路(龙芯班)1 | F211: 202534720103 | G211: 男 | H211: 4.43 | I211: 3 | J211: 93.7 | K211: =ROW()-203 -> 8 | L211: 2 | M211: =IF(COUNTIF(体测成绩!$A$2:$A$530,$F211&"")=0,"",IF(VLOOKUP($F211&"",体测成绩!$A$2:$B$530,2,FALSE)="免测",80,VLOOKUP($F211&"",体测成绩!$A$2:$B$530,2,FALSE))) -> 82.0 | N211: =IF(OR(IFERROR(VALUE(M211)<80,FALSE),COUNTIF(缓考名单!$A$2:$A$49,$F211&"")>0,COUNTIF(缓考名单!$B$2:$B$49,#REF!)>0,IFERROR(VLOOKUP($F211&"",学年成绩!$A$2:$B$462,2,FALSE)<>"100%",FALSE)),"是","") | O211: 一等奖 | P211: 邓俊文
A212: =ROW(A9) -> 9 | B212: 2025 | C212: 人工智能与低空技术学院 | D212: 电子信息科学与技术 | E212: 25电信科技3 | F212: 202534410309 | G212: 男 | H212: 4.38 | I212: 8 | J212: 93.53 | K212: =ROW()-203 -> 9 | L212: 2 | M212: =IF(COUNTIF(体测成绩!$A$2:$A$530,$F212&"")=0,"",IF(VLOOKUP($F212&"",体测成绩!$A$2:$B$530,2,FALSE)="免测",80,VLOOKUP($F212&"",体测成绩!$A$2:$B$530,2,FALSE))) -> 85.0 | N212: =IF(OR(IFERROR(VALUE(M212)<80,FALSE),COUNTIF(缓考名单!$A$2:$A$49,$F212&"")>0,COUNTIF(缓考名单!$B$2:$B$49,#REF!)>0,IFERROR(VLOOKUP($F212&"",学年成绩!$A$2:$B$462,2,FALSE)<>"100%",FALSE)),"是","") | O212: 一等奖 | P212: 柯炫邦
A213: =ROW(A10) -> 10 | B213: 2025 | C213: 人工智能与低空技术学院 | D213: 电子信息科学与技术 | E213: 25电信科技1 | F213: 202534410111 | G213: 男 | H213: 4.36 | I213: 9 | J213: 93.5 | K213: =ROW()-203 -> 10 | L213: 3 | M213: =IF(COUNTIF(体测成绩!$A$2:$A$530,$F213&"")=0,"",IF(VLOOKUP($F213&"",体测成绩!$A$2:$B$530,2,FALSE)="免测",80,VLOOKUP($F213&"",体测成绩!$A$2:$B$530,2,FALSE))) -> 97.4 | N213: =IF(OR(IFERROR(VALUE(M213)<80,FALSE),COUNTIF(缓考名单!$A$2:$A$49,$F213&"")>0,COUNTIF(缓考名单!$B$2:$B$49,#REF!)>0,IFERROR(VLOOKUP($F213&"",学年成绩!$A$2:$B$462,2,FALSE)<>"100%",FALSE)),"是","") | O213: 一等奖 | P213: 蓝景晖
A214: 11 | B214: 2025 | C214: 人工智能与低空技术学院 | D214: 人工智能 | E214: 25人工智能1 | F214: 202534610104 | G214: 女 | H214: 4.18 | I214: 13 | J214: 92.53 | K214: =ROW()-203 -> 11 | L214: 4 | M214: =IF(COUNTIF(体测成绩!$A$2:$A$530,$F214&"")=0,"",IF(VLOOKUP($F214&"",体测成绩!$A$2:$B$530,2,FALSE)="免测",80,VLOOKUP($F214&"",体测成绩!$A$2:$B$530,2,FALSE))) -> 84.2 | N214: =IF(OR(IFERROR(VALUE(M214)<80,FALSE),COUNTIF(缓考名单!$A$2:$A$49,$F214&"")>0,COUNTIF(缓考名单!$B$2:$B$49,#REF!)>0,IFERROR(VLOOKUP($F214&"",学年成绩!$A$2:$B$462,2,FALSE)<>"100%",FALSE)),"是","") | O214: 一等奖 | P214: 陈晓非
A215: 12 | B215: 2025 | C215: 人工智能与低空技术学院 | D215: 人工智能 | E215: 25人工智能1 | F215: 202534610120 | G215: 女 | H215: 4.13 | I215: 16 | J215: 92.06 | K215: =ROW()-203 -> 12 | L215: 5 | M215: =IF(COUNTIF(体测成绩!$A$2:$A$530,$F215&"")=0,"",IF(VLOOKUP($F215&"",体测成绩!$A$2:$B$530,2,FALSE)="免测",80,VLOOKUP($F215&"",体测成绩!$A$2:$B$530,2,FALSE))) -> 88.5 | N215: =IF(OR(IFERROR(VALUE(M215)<80,FALSE),COUNTIF(缓考名单!$A$2:$A$49,$F215&"")>0,COUNTIF(缓考名单!$B$2:$B$49,#REF!)>0,IFERROR(VLOOKUP($F215&"",学年成绩!$A$2:$B$462,2,FALSE)<>"100%",FALSE)),"是","") | O215: 一等奖 | P215: 吴心怡
A216: =ROW(A13) -> 13 | B216: 2025 | C216: 人工智能与低空技术学院 | D216: 电子信息工程（数字技术创新班） | E216: 25电信(创新班)1 | F216: 202534310211 | G216: 男 | H216: 4.26 | I216: 10 | J216: 91.79 | K216: =ROW()-203 -> 13 | L216: =ROW(A1) -> 1 | M216: =IF(COUNTIF(体测成绩!$A$2:$A$530,$F216&"")=0,"",IF(VLOOKUP($F216&"",体测成绩!$A$2:$B$530,2,FALSE)="免测",80,VLOOKUP($F216&"",体测成绩!$A$2:$B$530,2,FALSE))) -> 90.8 | N216: =IF(OR(IFERROR(VALUE(M216)<80,FALSE),COUNTIF(缓考名单!$A$2:$A$49,$F216&"")>0,COUNTIF(缓考名单!$B$2:$B$49,#REF!)>0,IFERROR(VLOOKUP($F216&"",学年成绩!$A$2:$B$462,2,FALSE)<>"100%",FALSE)),"是","") | O216: 一等奖 | P216: 黎浩琛
A217: =ROW(A14) -> 14 | B217: 2025 | C217: 人工智能与低空技术学院 | D217: 电子信息工程（数字技术创新班） | E217: 25电信(创新班)1 | F217: 202534320129 | G217: 女 | H217: 4.5 | I217: 1 | J217: 91.76 | K217: =ROW()-203 -> 14 | L217: 2 | M217: =IF(COUNTIF(体测成绩!$A$2:$A$530,$F217&"")=0,"",IF(VLOOKUP($F217&"",体测成绩!$A$2:$B$530,2,FALSE)="免测",80,VLOOKUP($F217&"",体测成绩!$A$2:$B$530,2,FALSE))) -> 87.2 | N217: =IF(OR(IFERROR(VALUE(M217)<80,FALSE),COUNTIF(缓考名单!$A$2:$A$49,$F217&"")>0,COUNTIF(缓考名单!$B$2:$B$49,#REF!)>0,IFERROR(VLOOKUP($F217&"",学年成绩!$A$2:$B$462,2,FALSE)<>"100%",FALSE)),"是","") | O217: 二等奖 | P217: 周瑾瑶
A218: =ROW(A15) -> 15 | B218: 2025 | C218: 人工智能与低空技术学院 | D218: 电子信息工程（数字技术创新班） | E218: 25电信(创新班)1 | F218: 202534320115 | G218: 女 | H218: 4.33 | I218: 6 | J218: 91.64 | K218: =ROW()-203 -> 15 | L218: =ROW(A3) -> 3 | M218: =IF(COUNTIF(体测成绩!$A$2:$A$530,$F218&"")=0,"",IF(VLOOKUP($F218&"",体测成绩!$A$2:$B$530,2,FALSE)="免测",80,VLOOKUP($F218&"",体测成绩!$A$2:$B$530,2,FALSE))) -> 79.9 | N218: =IF(OR(IFERROR(VALUE(M218)<80,FALSE),COUNTIF(缓考名单!$A$2:$A$49,$F218&"")>0,COUNTIF(缓考名单!$B$2:$B$49,#REF!)>0,IFERROR(VLOOKUP($F218&"",学年成绩!$A$2:$B$462,2,FALSE)<>"100%",FALSE)),"是","") -> 是 | P218: 梁晴晴
A219: =ROW(A16) -> 16 | B219: 2025 | C219: 人工智能与低空技术学院 | D219: 电子信息工程（数字技术创新班） | E219: 25电信(创新班)1 | F219: 202534320120 | G219: 男 | H219: 4.31 | I219: 7 | J219: 91.63 | K219: =ROW()-203 -> 16 | L219: =ROW(A4) -> 4 | M219: =IF(COUNTIF(体测成绩!$A$2:$A$530,$F219&"")=0,"",IF(VLOOKUP($F219&"",体测成绩!$A$2:$B$530,2,FALSE)="免测",80,VLOOKUP($F219&"",体测成绩!$A$2:$B$530,2,FALSE))) -> 89.8 | N219: =IF(OR(IFERROR(VALUE(M219)<80,FALSE),COUNTIF(缓考名单!$A$2:$A$49,$F219&"")>0,COUNTIF(缓考名单!$B$2:$B$49,#REF!)>0,IFERROR(VLOOKUP($F219&"",学年成绩!$A$2:$B$462,2,FALSE)<>"100%",FALSE)),"是","") | O219: 二等奖 | P219: 刘益霖
A220: =ROW(A17) -> 17 | B220: 2025 | C220: 人工智能与低空技术学院 | D220: 光电信息科学与工程 | E220: 25光信息3 | F220: 202534510312 | G220: 女 | H220: 4.47 | I220: 3 | J220: 91 | K220: =ROW()-203 -> 17 | L220: 1 | M220: =IF(COUNTIF(体测成绩!$A$2:$A$530,$F220&"")=0,"",IF(VLOOKUP($F220&"",体测成绩!$A$2:$B$530,2,FALSE)="免测",80,VLOOKUP($F220&"",体测成绩!$A$2:$B$530,2,FALSE))) -> 82.7 | N220: =IF(OR(IFERROR(VALUE(M220)<80,FALSE),COUNTIF(缓考名单!$A$2:$A$49,$F220&"")>0,COUNTIF(缓考名单!$B$2:$B$49,#REF!)>0,IFERROR(VLOOKUP($F220&"",学年成绩!$A$2:$B$462,2,FALSE)<>"100%",FALSE)),"是","") | O220: 二等奖 | P220: 蒋淑仪
A221: =ROW(A18) -> 18 | B221: 2025 | C221: 人工智能与低空技术学院 | D221: 电子信息工程（数字技术创新班） | E221: 25电信(创新班)1 | F221: 202534320118 | G221: 女 | H221: 4.38 | I221: 5 | J221: 90.98 | K221: =ROW()-203 -> 18 | L221: =ROW(A5) -> 5 | M221: =IF(COUNTIF(体测成绩!$A$2:$A$530,$F221&"")=0,"",IF(VLOOKUP($F221&"",体测成绩!$A$2:$B$530,2,FALSE)="免测",80,VLOOKUP($F221&"",体测成绩!$A$2:$B$530,2,FALSE))) -> 89.6 | N221: =IF(OR(IFERROR(VALUE(M221)<80,FALSE),COUNTIF(缓考名单!$A$2:$A$49,$F221&"")>0,COUNTIF(缓考名单!$B$2:$B$49,#REF!)>0,IFERROR(VLOOKUP($F221&"",学年成绩!$A$2:$B$462,2,FALSE)<>"100%",FALSE)),"是","") | O221: 二等奖 | P221: 刘家悦
A222: =ROW(A19) -> 19 | B222: 2025 | C222: 人工智能与低空技术学院 | D222: 电子信息工程（数字技术创新班） | E222: 25电信(创新班)1 | F222: 202534320103 | G222: 女 | H222: 4.41 | I222: 3 | J222: 90.47 | K222: =ROW()-203 -> 19 | L222: =ROW(A6) -> 6 | M222: =IF(COUNTIF(体测成绩!$A$2:$A$530,$F222&"")=0,"",IF(VLOOKUP($F222&"",体测成绩!$A$2:$B$530,2,FALSE)="免测",80,VLOOKUP($F222&"",体测成绩!$A$2:$B$530,2,FALSE))) -> 82.0 | N222: =IF(OR(IFERROR(VALUE(M222)<80,FALSE),COUNTIF(缓考名单!$A$2:$A$49,$F222&"")>0,COUNTIF(缓考名单!$B$2:$B$49,#REF!)>0,IFERROR(VLOOKUP($F222&"",学年成绩!$A$2:$B$462,2,FALSE)<>"100%",FALSE)),"是","") | O222: 二等奖 | P222: 陈奕丹
A223: =ROW(A20) -> 20 | B223: 2025 | C223: 人工智能与低空技术学院 | D223: 人工智能 | E223: 25人工智能2 | F223: 202533140121 | G223: 女 | H223: 4.33 | I223: 9 | J223: 90.25 | K223: =ROW()-203 -> 20 | L223: 6 | M223: 91 | N223: =IF(OR(IFERROR(VALUE(M223)<80,FALSE),COUNTIF(缓考名单!$A$2:$A$49,$F223&"")>0,COUNTIF(缓考名单!$B$2:$B$49,#REF!)>0,IFERROR(VLOOKUP($F223&"",学年成绩!$A$2:$B$462,2,FALSE)<>"100%",FALSE)),"是","") | O223: 二等奖 | P223: 吴睿妮
A224: =ROW(A21) -> 21 | B224: 2025 | C224: 人工智能与低空技术学院 | D224: 人工智能（昇腾AI智创班） | E224: 25人工智能(智创班)1 | F224: 202534630103 | G224: 女 | H224: 4.5 | I224: 3 | J224: 90.23 | K224: =ROW()-203 -> 21 | L224: 2 | M224: =IF(COUNTIF(体测成绩!$A$2:$A$530,$F224&"")=0,"",IF(VLOOKUP($F224&"",体测成绩!$A$2:$B$530,2,FALSE)="免测",80,VLOOKUP($F224&"",体测成绩!$A$2:$B$530,2,FALSE))) -> 83.4 | N224: =IF(OR(IFERROR(VALUE(M224)<80,FALSE),COUNTIF(缓考名单!$A$2:$A$49,$F224&"")>0,COUNTIF(缓考名单!$B$2:$B$49,#REF!)>0,IFERROR(VLOOKUP($F224&"",学年成绩!$A$2:$B$462,2,FALSE)<>"100%",FALSE)),"是","") | O224: 二等奖 | P224: 陈燕芳
A225: =ROW(A22) -> 22 | B225: 2025 | C225: 人工智能与低空技术学院 | D225: 电子信息工程（数字技术创新班） | E225: 25电信(创新班)1 | F225: 202534320108 | G225: 女 | H225: 4.46 | I225: 2 | J225: 90.1 | K225: =ROW()-203 -> 22 | L225: 7 | M225: =IF(COUNTIF(体测成绩!$A$2:$A$530,$F225&"")=0,"",IF(VLOOKUP($F225&"",体测成绩!$A$2:$B$530,2,FALSE)="免测",80,VLOOKUP($F225&"",体测成绩!$A$2:$B$530,2,FALSE))) -> 80.6 | N225: =IF(OR(IFERROR(VALUE(M225)<80,FALSE),COUNTIF(缓考名单!$A$2:$A$49,$F225&"")>0,COUNTIF(缓考名单!$B$2:$B$49,#REF!)>0,IFERROR(VLOOKUP($F225&"",学年成绩!$A$2:$B$462,2,FALSE)<>"100%",FALSE)),"是","") | O225: 二等奖 | P225: 何梓君
A226: =ROW(A23) -> 23 | B226: 2025 | C226: 人工智能与低空技术学院 | D226: 人工智能 | E226: 25人工智能2 | F226: 202534610227 | G226: 男 | H226: 4.41 | I226: 5 | J226: 90.01 | K226: =ROW()-203 -> 23 | L226: 7 | M226: =IF(COUNTIF(体测成绩!$A$2:$A$530,$F226&"")=0,"",IF(VLOOKUP($F226&"",体测成绩!$A$2:$B$530,2,FALSE)="免测",80,VLOOKUP($F226&"",体测成绩!$A$2:$B$530,2,FALSE))) -> 95.2 | N226: =IF(OR(IFERROR(VALUE(M226)<80,FALSE),COUNTIF(缓考名单!$A$2:$A$49,$F226&"")>0,COUNTIF(缓考名单!$B$2:$B$49,#REF!)>0,IFERROR(VLOOKUP($F226&"",学年成绩!$A$2:$B$462,2,FALSE)<>"100%",FALSE)),"是","") | O226: 二等奖 | P226: 吴兴明
A227: =ROW(A24) -> 24 | B227: 2025 | C227: 人工智能与低空技术学院 | D227: 电子信息工程 | E227: 25电信3 | F227: 202534310303 | G227: 男 | H227: 4.12 | I227: 22 | J227: 88.95 | K227: =ROW()-203 -> 24 | L227: 2 | M227: =IF(COUNTIF(体测成绩!$A$2:$A$530,$F227&"")=0,"",IF(VLOOKUP($F227&"",体测成绩!$A$2:$B$530,2,FALSE)="免测",80,VLOOKUP($F227&"",体测成绩!$A$2:$B$530,2,FALSE))) -> 84.1 | N227: =IF(OR(IFERROR(VALUE(M227)<80,FALSE),COUNTIF(缓考名单!$A$2:$A$49,$F227&"")>0,COUNTIF(缓考名单!$B$2:$B$49,#REF!)>0,IFERROR(VLOOKUP($F227&"",学年成绩!$A$2:$B$462,2,FALSE)<>"100%",FALSE)),"是","") | O227: 二等奖 | P227: 陈圳华
A228: =ROW(A25) -> 25 | B228: 2025 | C228: 人工智能与低空技术学院 | D228: 人工智能 | E228: 25人工智能2 | F228: 202534610224 | G228: 女 | H228: 4.48 | I228: 1 | J228: 88.42 | K228: =ROW()-203 -> 25 | L228: 8 | M228: =IF(COUNTIF(体测成绩!$A$2:$A$530,$F228&"")=0,"",IF(VLOOKUP($F228&"",体测成绩!$A$2:$B$530,2,FALSE)="免测",80,VLOOKUP($F228&"",体测成绩!$A$2:$B$530,2,FALSE))) -> 80.2 | N228: =IF(OR(IFERROR(VALUE(M228)<80,FALSE),COUNTIF(缓考名单!$A$2:$A$49,$F228&"")>0,COUNTIF(缓考名单!$B$2:$B$49,#REF!)>0,IFERROR(VLOOKUP($F228&"",学年成绩!$A$2:$B$462,2,FALSE)<>"100%",FALSE)),"是","") | O228: 二等奖 | P228: 宋可裙
A229: =ROW(A26) -> 26 | B229: 2025 | C229: 人工智能与低空技术学院 | D229: 电子信息工程 | E229: 25电信2 | F229: 202534310214 | G229: 女 | H229: 4.61 | I229: 1 | J229: 88.25 | K229: =ROW()-203 -> 26 | L229: 3 | M229: =IF(COUNTIF(体测成绩!$A$2:$A$530,$F229&"")=0,"",IF(VLOOKUP($F229&"",体测成绩!$A$2:$B$530,2,FALSE)="免测",80,VLOOKUP($F229&"",体测成绩!$A$2:$B$530,2,FALSE))) -> 88.1 | N229: =IF(OR(IFERROR(VALUE(M229)<80,FALSE),COUNTIF(缓考名单!$A$2:$A$49,$F229&"")>0,COUNTIF(缓考名单!$B$2:$B$49,#REF!)>0,IFERROR(VLOOKUP($F229&"",学年成绩!$A$2:$B$462,2,FALSE)<>"100%",FALSE)),"是","") | O229: 二等奖 | P229: 李颖
A230: 27 | B230: 2025 | C230: 人工智能与低空技术学院 | D230: 人工智能 | E230: 25人工智能1 | F230: 202534610123 | G230: 女 | H230: 4.38 | I230: 7 | J230: 88.16 | K230: =ROW()-203 -> 27 | L230: 9 | M230: =IF(COUNTIF(体测成绩!$A$2:$A$530,$F230&"")=0,"",IF(VLOOKUP($F230&"",体测成绩!$A$2:$B$530,2,FALSE)="免测",80,VLOOKUP($F230&"",体测成绩!$A$2:$B$530,2,FALSE))) -> 83.7 | N230: =IF(OR(IFERROR(VALUE(M230)<80,FALSE),COUNTIF(缓考名单!$A$2:$A$49,$F230&"")>0,COUNTIF(缓考名单!$B$2:$B$49,#REF!)>0,IFERROR(VLOOKUP($F230&"",学年成绩!$A$2:$B$462,2,FALSE)<>"100%",FALSE)),"是","") | O230: 二等奖 | P230: 谢宛孜
A231: =ROW(A28) -> 28 | B231: 2025 | C231: 人工智能与低空技术学院 | D231: 集成电路设计与集成系统 | E231: 25集成电路2 | F231: 202534710216 | G231: 男 | H231: 4.11 | I231: 17 | J231: 88.13 | K231: =ROW()-203 -> 28 | L231: 1 | M231: =IF(COUNTIF(体测成绩!$A$2:$A$530,$F231&"")=0,"",IF(VLOOKUP($F231&"",体测成绩!$A$2:$B$530,2,FALSE)="免测",80,VLOOKUP($F231&"",体测成绩!$A$2:$B$530,2,FALSE))) -> 83.1 | N231: =IF(OR(IFERROR(VALUE(M231)<80,FALSE),COUNTIF(缓考名单!$A$2:$A$49,$F231&"")>0,COUNTIF(缓考名单!$B$2:$B$49,#REF!)>0,IFERROR(VLOOKUP($F231&"",学年成绩!$A$2:$B$462,2,FALSE)<>"100%",FALSE)),"是","") | O231: 二等奖 | P231: 莫天佑
A232: =ROW(A29) -> 29 | B232: 2025 | C232: 人工智能与低空技术学院 | D232: 电子信息工程（数字技术创新班） | E232: 25电信(创新班)1 | F232: 202534320122 | G232: 女 | H232: 4.39 | I232: 4 | J232: 88.09 | K232: =ROW()-203 -> 29 | L232: 8 | M232: =IF(COUNTIF(体测成绩!$A$2:$A$530,$F232&"")=0,"",IF(VLOOKUP($F232&"",体测成绩!$A$2:$B$530,2,FALSE)="免测",80,VLOOKUP($F232&"",体测成绩!$A$2:$B$530,2,FALSE))) -> 80.3 | N232: =IF(OR(IFERROR(VALUE(M232)<80,FALSE),COUNTIF(缓考名单!$A$2:$A$49,$F232&"")>0,COUNTIF(缓考名单!$B$2:$B$49,#REF!)>0,IFERROR(VLOOKUP($F232&"",学年成绩!$A$2:$B$462,2,FALSE)<>"100%",FALSE)),"是","") | O232: 二等奖 | P232: 卢佳梦
A233: =ROW(A30) -> 30 | B233: 2025 | C233: 人工智能与低空技术学院 | D233: 电子信息科学与技术 | E233: 25电信科技2 | F233: 202429110208 | G233: 女 | H233: 4.48 | I233: 3 | J233: 88.04 | K233: =ROW()-203 -> 30 | L233: 4 | M233: 82.9 | N233: =IF(OR(IFERROR(VALUE(M233)<80,FALSE),COUNTIF(缓考名单!$A$2:$A$49,$F233&"")>0,COUNTIF(缓考名单!$B$2:$B$49,#REF!)>0,IFERROR(VLOOKUP($F233&"",学年成绩!$A$2:$B$462,2,FALSE)<>"100%",FALSE)),"是","") | O233: 二等奖 | P233: 李文姬
A234: =ROW(A31) -> 31 | B234: 2025 | C234: 人工智能与低空技术学院 | D234: 光电信息科学与工程 | E234: 25光信息1 | F234: 202534510134 | G234: 女 | H234: 4.42 | I234: 4 | J234: 87.92 | K234: =ROW()-203 -> 31 | L234: 2 | M234: =IF(COUNTIF(体测成绩!$A$2:$A$530,$F234&"")=0,"",IF(VLOOKUP($F234&"",体测成绩!$A$2:$B$530,2,FALSE)="免测",80,VLOOKUP($F234&"",体测成绩!$A$2:$B$530,2,FALSE))) -> 87.4 | N234: =IF(OR(IFERROR(VALUE(M234)<80,FALSE),COUNTIF(缓考名单!$A$2:$A$49,$F234&"")>0,COUNTIF(缓考名单!$B$2:$B$49,#REF!)>0,IFERROR(VLOOKUP($F234&"",学年成绩!$A$2:$B$462,2,FALSE)<>"100%",FALSE)),"是","") | O234: 二等奖 | P234: 周佳丽
A235: =ROW(A32) -> 32 | B235: 2025 | C235: 人工智能与低空技术学院 | D235: 电子信息工程 | E235: 25电信1 | F235: 202534310133 | G235: 男 | H235: 4.45 | I235: 5 | J235: 87.83 | K235: =ROW()-203 -> 32 | L235: 4 | M235: =IF(COUNTIF(体测成绩!$A$2:$A$530,$F235&"")=0,"",IF(VLOOKUP($F235&"",体测成绩!$A$2:$B$530,2,FALSE)="免测",80,VLOOKUP($F235&"",体测成绩!$A$2:$B$530,2,FALSE))) -> 85.7 | N235: =IF(OR(IFERROR(VALUE(M235)<80,FALSE),COUNTIF(缓考名单!$A$2:$A$49,$F235&"")>0,COUNTIF(缓考名单!$B$2:$B$49,#REF!)>0,IFERROR(VLOOKUP($F235&"",学年成绩!$A$2:$B$462,2,FALSE)<>"100%",FALSE)),"是","") | O235: 二等奖 | P235: 庄东霖
A236: =ROW(A33) -> 33 | B236: 2025 | C236: 人工智能与低空技术学院 | D236: 电子信息工程 | E236: 25电信2 | F236: 202534310209 | G236: 女 | H236: 4.37 | I236: 12 | J236: 87.4 | K236: =ROW()-203 -> 33 | L236: 5 | M236: =IF(COUNTIF(体测成绩!$A$2:$A$530,$F236&"")=0,"",IF(VLOOKUP($F236&"",体测成绩!$A$2:$B$530,2,FALSE)="免测",80,VLOOKUP($F236&"",体测成绩!$A$2:$B$530,2,FALSE))) -> 82.2 | N236: =IF(OR(IFERROR(VALUE(M236)<80,FALSE),COUNTIF(缓考名单!$A$2:$A$49,$F236&"")>0,COUNTIF(缓考名单!$B$2:$B$49,#REF!)>0,IFERROR(VLOOKUP($F236&"",学年成绩!$A$2:$B$462,2,FALSE)<>"100%",FALSE)),"是","") | O236: 二等奖 | P236: 赖影
A237: =ROW(A34) -> 34 | B237: 2025 | C237: 人工智能与低空技术学院 | D237: 集成电路设计与集成系统（龙芯创新班） | E237: 25集成电路(龙芯班)1 | F237: 202534720108 | G237: 女 | H237: 4.08 | I237: 7 | J237: 87.38 | K237: =ROW()-203 -> 34 | L237: 3 | M237: =IF(COUNTIF(体测成绩!$A$2:$A$530,$F237&"")=0,"",IF(VLOOKUP($F237&"",体测成绩!$A$2:$B$530,2,FALSE)="免测",80,VLOOKUP($F237&"",体测成绩!$A$2:$B$530,2,FALSE))) -> 90.0 | N237: =IF(OR(IFERROR(VALUE(M237)<80,FALSE),COUNTIF(缓考名单!$A$2:$A$49,$F237&"")>0,COUNTIF(缓考名单!$B$2:$B$49,#REF!)>0,IFERROR(VLOOKUP($F237&"",学年成绩!$A$2:$B$462,2,FALSE)<>"100%",FALSE)),"是","") | O237: 二等奖 | P237: 何嘉慧
A238: =ROW(A35) -> 35 | B238: 2025 | C238: 人工智能与低空技术学院 | D238: 电子信息工程 | E238: 25电信2 | F238: 202525310211 | G238: 男 | H238: 4.46 | I238: 4 | J238: 87.37 | K238: =ROW()-203 -> 35 | L238: 6 | M238: 68.5 | N238: =IF(OR(IFERROR(VALUE(M238)<80,FALSE),COUNTIF(缓考名单!$A$2:$A$49,$F238&"")>0,COUNTIF(缓考名单!$B$2:$B$49,#REF!)>0,IFERROR(VLOOKUP($F238&"",学年成绩!$A$2:$B$462,2,FALSE)<>"100%",FALSE)),"是","") -> 是 | P238: 罗为笑
A239: =ROW(A36) -> 36 | B239: 2025 | C239: 人工智能与低空技术学院 | D239: 集成电路设计与集成系统 | E239: 25集成电路1 | F239: 202534710122 | G239: 女 | H239: 4.26 | I239: 8 | J239: 87.33 | K239: =ROW()-203 -> 36 | L239: 2 | M239: =IF(COUNTIF(体测成绩!$A$2:$A$530,$F239&"")=0,"",IF(VLOOKUP($F239&"",体测成绩!$A$2:$B$530,2,FALSE)="免测",80,VLOOKUP($F239&"",体测成绩!$A$2:$B$530,2,FALSE))) -> 86.4 | N239: =IF(OR(IFERROR(VALUE(M239)<80,FALSE),COUNTIF(缓考名单!$A$2:$A$49,$F239&"")>0,COUNTIF(缓考名单!$B$2:$B$49,#REF!)>0,IFERROR(VLOOKUP($F239&"",学年成绩!$A$2:$B$462,2,FALSE)<>"100%",FALSE)),"是","") | O239: 二等奖 | P239: 汤善淳
A240: =ROW(A37) -> 37 | B240: 2025 | C240: 人工智能与低空技术学院 | D240: 集成电路设计与集成系统 | E240: 25集成电路1 | F240: 202534710114 | G240: 女 | H240: 4.34 | I240: 5 | J240: 87.17 | K240: =ROW()-203 -> 37 | L240: 3 | M240: =IF(COUNTIF(体测成绩!$A$2:$A$530,$F240&"")=0,"",IF(VLOOKUP($F240&"",体测成绩!$A$2:$B$530,2,FALSE)="免测",80,VLOOKUP($F240&"",体测成绩!$A$2:$B$530,2,FALSE))) -> 82.6 | N240: =IF(OR(IFERROR(VALUE(M240)<80,FALSE),COUNTIF(缓考名单!$A$2:$A$49,$F240&"")>0,COUNTIF(缓考名单!$B$2:$B$49,#REF!)>0,IFERROR(VLOOKUP($F240&"",学年成绩!$A$2:$B$462,2,FALSE)<>"100%",FALSE)),"是","") | O240: 二等奖 | P240: 丘涵益
A241: 38 | B241: 2025 | C241: 人工智能与低空技术学院 | D241: 人工智能 | E241: 25人工智能1 | F241: 202534610121 | G241: 女 | H241: 4.06 | I241: 22 | J241: 87 | K241: =ROW()-203 -> 38 | L241: 10 | M241: =IF(COUNTIF(体测成绩!$A$2:$A$530,$F241&"")=0,"",IF(VLOOKUP($F241&"",体测成绩!$A$2:$B$530,2,FALSE)="免测",80,VLOOKUP($F241&"",体测成绩!$A$2:$B$530,2,FALSE))) -> 82.2 | N241: =IF(OR(IFERROR(VALUE(M241)<80,FALSE),COUNTIF(缓考名单!$A$2:$A$49,$F241&"")>0,COUNTIF(缓考名单!$B$2:$B$49,#REF!)>0,IFERROR(VLOOKUP($F241&"",学年成绩!$A$2:$B$462,2,FALSE)<>"100%",FALSE)),"是","") | O241: 二等奖 | P241: 夏子茹
A242: =ROW(A39) -> 39 | B242: 2025 | C242: 人工智能与低空技术学院 | D242: 电子信息科学与技术 | E242: 25电信科技3 | F242: 202534410322 | G242: 女 | H242: 4.54 | I242: 2 | J242: 86.81 | K242: =ROW()-203 -> 39 | L242: 5 | M242: =IF(COUNTIF(体测成绩!$A$2:$A$530,$F242&"")=0,"",IF(VLOOKUP($F242&"",体测成绩!$A$2:$B$530,2,FALSE)="免测",80,VLOOKUP($F242&"",体测成绩!$A$2:$B$530,2,FALSE))) -> 85.7 | N242: =IF(OR(IFERROR(VALUE(M242)<80,FALSE),COUNTIF(缓考名单!$A$2:$A$49,$F242&"")>0,COUNTIF(缓考名单!$B$2:$B$49,#REF!)>0,IFERROR(VLOOKUP($F242&"",学年成绩!$A$2:$B$462,2,FALSE)<>"100%",FALSE)),"是","") | O242: 二等奖 | P242: 吴少玲
A243: =ROW(A40) -> 40 | B243: 2025 | C243: 人工智能与低空技术学院 | D243: 集成电路设计与集成系统（龙芯创新班） | E243: 25集成电路(龙芯班)1 | F243: 202534720120 | G243: 男 | H243: 4.33 | I243: 6 | J243: 86.8 | K243: =ROW()-203 -> 40 | L243: 4 | M243: =IF(COUNTIF(体测成绩!$A$2:$A$530,$F243&"")=0,"",IF(VLOOKUP($F243&"",体测成绩!$A$2:$B$530,2,FALSE)="免测",80,VLOOKUP($F243&"",体测成绩!$A$2:$B$530,2,FALSE))) -> 85.2 | N243: =IF(OR(IFERROR(VALUE(M243)<80,FALSE),COUNTIF(缓考名单!$A$2:$A$49,$F243&"")>0,COUNTIF(缓考名单!$B$2:$B$49,#REF!)>0,IFERROR(VLOOKUP($F243&"",学年成绩!$A$2:$B$462,2,FALSE)<>"100%",FALSE)),"是","") | O243: 二等奖 | P243: 韦金辰
A244: =ROW(A41) -> 41 | B244: 2025 | C244: 人工智能与低空技术学院 | D244: 电子信息科学与技术 | E244: 25电信科技2 | F244: 202534410207 | G244: 男 | H244: 4.41 | I244: 5 | J244: 86.74 | K244: =ROW()-203 -> 41 | L244: 6 | M244: =IF(COUNTIF(体测成绩!$A$2:$A$530,$F244&"")=0,"",IF(VLOOKUP($F244&"",体测成绩!$A$2:$B$530,2,FALSE)="免测",80,VLOOKUP($F244&"",体测成绩!$A$2:$B$530,2,FALSE))) -> 80 | N244: =IF(OR(IFERROR(VALUE(M244)<80,FALSE),COUNTIF(缓考名单!$A$2:$A$49,$F244&"")>0,COUNTIF(缓考名单!$B$2:$B$49,#REF!)>0,IFERROR(VLOOKUP($F244&"",学年成绩!$A$2:$B$462,2,FALSE)<>"100%",FALSE)),"是","") | O244: 二等奖 | P244: 黄伟钢
A245: =ROW(A42) -> 42 | B245: 2025 | C245: 人工智能与低空技术学院 | D245: 电子信息科学与技术 | E245: 25电信科技3 | F245: 202534410333 | G245: 女 | H245: 4.4 | I245: 7 | J245: 86.73 | K245: =ROW()-203 -> 42 | L245: 7 | M245: =IF(COUNTIF(体测成绩!$A$2:$A$530,$F245&"")=0,"",IF(VLOOKUP($F245&"",体测成绩!$A$2:$B$530,2,FALSE)="免测",80,VLOOKUP($F245&"",体测成绩!$A$2:$B$530,2,FALSE))) -> 95.5 | N245: =IF(OR(IFERROR(VALUE(M245)<80,FALSE),COUNTIF(缓考名单!$A$2:$A$49,$F245&"")>0,COUNTIF(缓考名单!$B$2:$B$49,#REF!)>0,IFERROR(VLOOKUP($F245&"",学年成绩!$A$2:$B$462,2,FALSE)<>"100%",FALSE)),"是","") | O245: 二等奖 | P245: 庄骐祯
A246: =ROW(A43) -> 43 | B246: 2025 | C246: 人工智能与低空技术学院 | D246: 人工智能 | E246: 25人工智能2 | F246: 202534610220 | G246: 女 | H246: 4.09 | I246: 19 | J246: 86.65 | K246: =ROW()-203 -> 43 | L246: 11 | M246: =IF(COUNTIF(体测成绩!$A$2:$A$530,$F246&"")=0,"",IF(VLOOKUP($F246&"",体测成绩!$A$2:$B$530,2,FALSE)="免测",80,VLOOKUP($F246&"",体测成绩!$A$2:$B$530,2,FALSE))) -> 89.9 | N246: =IF(OR(IFERROR(VALUE(M246)<80,FALSE),COUNTIF(缓考名单!$A$2:$A$49,$F246&"")>0,COUNTIF(缓考名单!$B$2:$B$49,#REF!)>0,IFERROR(VLOOKUP($F246&"",学年成绩!$A$2:$B$462,2,FALSE)<>"100%",FALSE)),"是","") | O246: 二等奖 | P246: 马银银
A247: =ROW(A44) -> 44 | B247: 2025 | C247: 人工智能与低空技术学院 | D247: 电子信息工程 | E247: 25电信1 | F247: 202534310131 | G247: 女 | H247: 4.59 | I247: 2 | J247: 86.1 | K247: =ROW()-203 -> 44 | L247: 7 | M247: =IF(COUNTIF(体测成绩!$A$2:$A$530,$F247&"")=0,"",IF(VLOOKUP($F247&"",体测成绩!$A$2:$B$530,2,FALSE)="免测",80,VLOOKUP($F247&"",体测成绩!$A$2:$B$530,2,FALSE))) -> 80.1 | N247: =IF(OR(IFERROR(VALUE(M247)<80,FALSE),COUNTIF(缓考名单!$A$2:$A$49,$F247&"")>0,COUNTIF(缓考名单!$B$2:$B$49,#REF!)>0,IFERROR(VLOOKUP($F247&"",学年成绩!$A$2:$B$462,2,FALSE)<>"100%",FALSE)),"是","") | O247: 二等奖 | P247: 朱惠珊
A248: =ROW(A45) -> 45 | B248: 2025 | C248: 人工智能与低空技术学院 | D248: 电子信息科学与技术 | E248: 25电信科技3 | F248: 202534410321 | G248: 男 | H248: 3.88 | I248: 35 | J248: 86 | K248: =ROW()-203 -> 45 | L248: 8 | M248: =IF(COUNTIF(体测成绩!$A$2:$A$530,$F248&"")=0,"",IF(VLOOKUP($F248&"",体测成绩!$A$2:$B$530,2,FALSE)="免测",80,VLOOKUP($F248&"",体测成绩!$A$2:$B$530,2,FALSE))) -> 84.6 | N248: =IF(OR(IFERROR(VALUE(M248)<80,FALSE),COUNTIF(缓考名单!$A$2:$A$49,$F248&"")>0,COUNTIF(缓考名单!$B$2:$B$49,#REF!)>0,IFERROR(VLOOKUP($F248&"",学年成绩!$A$2:$B$462,2,FALSE)<>"100%",FALSE)),"是","") | O248: 二等奖 | P248: 翁志豪
A249: =ROW(A46) -> 46 | B249: 2025 | C249: 人工智能与低空技术学院 | D249: 电子信息工程 | E249: 25电信2 | F249: 202534310232 | G249: 女 | H249: 4.53 | I249: 3 | J249: 85.98 | K249: =ROW()-203 -> 46 | L249: 8 | M249: =IF(COUNTIF(体测成绩!$A$2:$A$530,$F249&"")=0,"",IF(VLOOKUP($F249&"",体测成绩!$A$2:$B$530,2,FALSE)="免测",80,VLOOKUP($F249&"",体测成绩!$A$2:$B$530,2,FALSE))) -> 85.0 | N249: =IF(OR(IFERROR(VALUE(M249)<80,FALSE),COUNTIF(缓考名单!$A$2:$A$49,$F249&"")>0,COUNTIF(缓考名单!$B$2:$B$49,#REF!)>0,IFERROR(VLOOKUP($F249&"",学年成绩!$A$2:$B$462,2,FALSE)<>"100%",FALSE)),"是","") | O249: 二等奖 | P249: 周欣彤
A250: =ROW(A47) -> 47 | B250: 2025 | C250: 人工智能与低空技术学院 | D250: 集成电路设计与集成系统（龙芯创新班） | E250: 25集成电路(龙芯班)1 | F250: 202534720127 | G250: 男 | H250: 4.37 | I250: 4 | J250: 85.74 | K250: =ROW()-203 -> 47 | L250: 5 | M250: =IF(COUNTIF(体测成绩!$A$2:$A$530,$F250&"")=0,"",IF(VLOOKUP($F250&"",体测成绩!$A$2:$B$530,2,FALSE)="免测",80,VLOOKUP($F250&"",体测成绩!$A$2:$B$530,2,FALSE))) -> 99.1 | N250: =IF(OR(IFERROR(VALUE(M250)<80,FALSE),COUNTIF(缓考名单!$A$2:$A$49,$F250&"")>0,COUNTIF(缓考名单!$B$2:$B$49,#REF!)>0,IFERROR(VLOOKUP($F250&"",学年成绩!$A$2:$B$462,2,FALSE)<>"100%",FALSE)),"是","") | O250: 二等奖 | P250: 曾凡平
A251: =ROW(A48) -> 48 | B251: 2025 | C251: 人工智能与低空技术学院 | D251: 电子信息工程（数字技术创新班） | E251: 25电信(创新班)1 | F251: 202534320106 | G251: 女 | H251: 4.3 | I251: 8 | J251: 85.59 | K251: =ROW()-203 -> 48 | L251: 9 | M251: =IF(COUNTIF(体测成绩!$A$2:$A$530,$F251&"")=0,"",IF(VLOOKUP($F251&"",体测成绩!$A$2:$B$530,2,FALSE)="免测",80,VLOOKUP($F251&"",体测成绩!$A$2:$B$530,2,FALSE))) -> 80.2 | N251: =IF(OR(IFERROR(VALUE(M251)<80,FALSE),COUNTIF(缓考名单!$A$2:$A$49,$F251&"")>0,COUNTIF(缓考名单!$B$2:$B$49,#REF!)>0,IFERROR(VLOOKUP($F251&"",学年成绩!$A$2:$B$462,2,FALSE)<>"100%",FALSE)),"是","") | O251: 二等奖 | P251: 刁禾茜
A252: =ROW(A49) -> 49 | B252: 2025 | C252: 人工智能与低空技术学院 | D252: 电子信息科学与技术 | E252: 25电信科技3 | F252: 202534410324 | G252: 女 | H252: 4.48 | I252: 4 | J252: 85.33 | K252: =ROW()-203 -> 49 | L252: 9 | M252: =IF(COUNTIF(体测成绩!$A$2:$A$530,$F252&"")=0,"",IF(VLOOKUP($F252&"",体测成绩!$A$2:$B$530,2,FALSE)="免测",80,VLOOKUP($F252&"",体测成绩!$A$2:$B$530,2,FALSE))) -> 82.6 | N252: =IF(OR(IFERROR(VALUE(M252)<80,FALSE),COUNTIF(缓考名单!$A$2:$A$49,$F252&"")>0,COUNTIF(缓考名单!$B$2:$B$49,#REF!)>0,IFERROR(VLOOKUP($F252&"",学年成绩!$A$2:$B$462,2,FALSE)<>"100%",FALSE)),"是","") | O252: 二等奖 | P252: 肖铭
A253: =ROW(A50) -> 50 | B253: 2025 | C253: 人工智能与低空技术学院 | D253: 集成电路设计与集成系统 | E253: 25集成电路1 | F253: 202534710107 | G253: 男 | H253: 4.24 | I253: 11 | J253: 85.28 | K253: =ROW()-203 -> 50 | L253: 4 | M253: =IF(COUNTIF(体测成绩!$A$2:$A$530,$F253&"")=0,"",IF(VLOOKUP($F253&"",体测成绩!$A$2:$B$530,2,FALSE)="免测",80,VLOOKUP($F253&"",体测成绩!$A$2:$B$530,2,FALSE))) -> 95.5 | N253: =IF(OR(IFERROR(VALUE(M253)<80,FALSE),COUNTIF(缓考名单!$A$2:$A$49,$F253&"")>0,COUNTIF(缓考名单!$B$2:$B$49,#REF!)>0,IFERROR(VLOOKUP($F253&"",学年成绩!$A$2:$B$462,2,FALSE)<>"100%",FALSE)),"是","") | O253: 三等奖 | P253: 黄永康
... A256: =ROW(A53) -> 53 | B256: 2025 | C256: 人工智能与低空技术学院 | D256: 光电信息科学与工程 | E256: 25光信息3 | F256: 202534510304 | G256: 男 | H256: 4.16 | I256: 16 | J256: 84.81 | K256: =ROW()-203 -> 53 | L256: 3 | M256: =IF(COUNTIF(体测成绩!$A$2:$A$530,$F256&"")=0,"",IF(VLOOKUP($F256&"",体测成绩!$A$2:$B$530,2,FALSE)="免测",80,VLOOKUP($F256&"",体测成绩!$A$2:$B$530,2,FALSE))) -> 88.8 | N256: =IF(OR(IFERROR(VALUE(M256)<80,FALSE),COUNTIF(缓考名单!$A$2:$A$49,$F256&"")>0,COUNTIF(缓考名单!$B$2:$B$49,#REF!)>0,IFERROR(VLOOKUP($F256&"",学年成绩!$A$2:$B$462,2,FALSE)<>"100%",FALSE)),"是","") | O256: 三等奖 | P256: 陈铭桐
A257: =ROW(A54) -> 54 | B257: 2025 | C257: 人工智能与低空技术学院 | D257: 电子信息工程 | E257: 25电信3 | F257: 202534310302 | G257: 男 | H257: 4.37 | I257: 13 | J257: 84.67 | K257: =ROW()-203 -> 54 | L257: 10 | M257: =IF(COUNTIF(体测成绩!$A$2:$A$530,$F257&"")=0,"",IF(VLOOKUP($F257&"",体测成绩!$A$2:$B$530,2,FALSE)="免测",80,VLOOKUP($F257&"",体测成绩!$A$2:$B$530,2,FALSE))) -> 67.2 | N257: =IF(OR(IFERROR(VALUE(M257)<80,FALSE),COUNTIF(缓考名单!$A$2:$A$49,$F257&"")>0,COUNTIF(缓考名单!$B$2:$B$49,#REF!)>0,IFERROR(VLOOKUP($F257&"",学年成绩!$A$2:$B$462,2,FALSE)<>"100%",FALSE)),"是","") -> 是 | P257: 陈天
A258: =ROW(A55) -> 55 | B258: 2025 | C258: 人工智能与低空技术学院 | D258: 光电信息科学与工程 | E258: 25光信息3 | F258: 202534510311 | G258: 女 | H258: 4.51 | I258: 2 | J258: 84.61 | K258: =ROW()-203 -> 55 | L258: 4 | M258: =IF(COUNTIF(体测成绩!$A$2:$A$530,$F258&"")=0,"",IF(VLOOKUP($F258&"",体测成绩!$A$2:$B$530,2,FALSE)="免测",80,VLOOKUP($F258&"",体测成绩!$A$2:$B$530,2,FALSE))) -> 81.7 | N258: =IF(OR(IFERROR(VALUE(M258)<80,FALSE),COUNTIF(缓考名单!$A$2:$A$49,$F258&"")>0,COUNTIF(缓考名单!$B$2:$B$49,#REF!)>0,IFERROR(VLOOKUP($F258&"",学年成绩!$A$2:$B$462,2,FALSE)<>"100%",FALSE)),"是","") | O258: 三等奖 | P258: 纪锌晴
A259: =ROW(A56) -> 56 | B259: 2025 | C259: 人工智能与低空技术学院 | D259: 集成电路设计与集成系统 | E259: 25集成电路2 | F259: 202534710220 | G259: 女 | H259: 4.47 | I259: 2 | J259: 84.47 | K259: =ROW()-203 -> 56 | L259: 5 | M259: =IF(COUNTIF(体测成绩!$A$2:$A$530,$F259&"")=0,"",IF(VLOOKUP($F259&"",体测成绩!$A$2:$B$530,2,FALSE)="免测",80,VLOOKUP($F259&"",体测成绩!$A$2:$B$530,2,FALSE))) -> 97.0 | N259: =IF(OR(IFERROR(VALUE(M259)<80,FALSE),COUNTIF(缓考名单!$A$2:$A$49,$F259&"")>0,COUNTIF(缓考名单!$B$2:$B$49,#REF!)>0,IFERROR(VLOOKUP($F259&"",学年成绩!$A$2:$B$462,2,FALSE)<>"100%",FALSE)),"是","") | O259: 三等奖 | P259: 谭湘怡
A260: =ROW(A57) -> 57 | B260: 2025 | C260: 人工智能与低空技术学院 | D260: 电子信息科学与技术 | E260: 25电信科技1 | F260: 202534410132 | G260: 女 | H260: 4.21 | I260: 17 | J260: 84.43 | K260: =ROW()-203 -> 57 | L260: 10 | M260: =IF(COUNTIF(体测成绩!$A$2:$A$530,$F260&"")=0,"",IF(VLOOKUP($F260&"",体测成绩!$A$2:$B$530,2,FALSE)="免测",80,VLOOKUP($F260&"",体测成绩!$A$2:$B$530,2,FALSE))) -> 86.0 | N260: =IF(OR(IFERROR(VALUE(M260)<80,FALSE),COUNTIF(缓考名单!$A$2:$A$49,$F260&"")>0,COUNTIF(缓考名单!$B$2:$B$49,#REF!)>0,IFERROR(VLOOKUP($F260&"",学年成绩!$A$2:$B$462,2,FALSE)<>"100%",FALSE)),"是","") | O260: 三等奖 | P260: 朱宇芳
A261: =ROW(A58) -> 58 | B261: 2025 | C261: 人工智能与低空技术学院 | D261: 电子信息工程 | E261: 25电信2 | F261: 202534310215 | G261: 男 | H261: 4.4 | I261: 10 | J261: 84.39 | K261: =ROW()-203 -> 58 | L261: 11 | M261: =IF(COUNTIF(体测成绩!$A$2:$A$530,$F261&"")=0,"",IF(VLOOKUP($F261&"",体测成绩!$A$2:$B$530,2,FALSE)="免测",80,VLOOKUP($F261&"",体测成绩!$A$2:$B$530,2,FALSE))) -> 84.0 | N261: =IF(OR(IFERROR(VALUE(M261)<80,FALSE),COUNTIF(缓考名单!$A$2:$A$49,$F261&"")>0,COUNTIF(缓考名单!$B$2:$B$49,#REF!)>0,IFERROR(VLOOKUP($F261&"",学年成绩!$A$2:$B$462,2,FALSE)<>"100%",FALSE)),"是","") | O261: 三等奖 | P261: 林琨杭
A262: =ROW(A59) -> 59 | B262: 2025 | C262: 人工智能与低空技术学院 | D262: 电子信息工程 | E262: 25电信1 | F262: 202534310105 | G262: 女 | H262: 4.28 | I262: 16 | J262: 84.33 | K262: =ROW()-203 -> 59 | L262: 12 | M262: =IF(COUNTIF(体测成绩!$A$2:$A$530,$F262&"")=0,"",IF(VLOOKUP($F262&"",体测成绩!$A$2:$B$530,2,FALSE)="免测",80,VLOOKUP($F262&"",体测成绩!$A$2:$B$530,2,FALSE))) -> 87.2 | N262: =IF(OR(IFERROR(VALUE(M262)<80,FALSE),COUNTIF(缓考名单!$A$2:$A$49,$F262&"")>0,COUNTIF(缓考名单!$B$2:$B$49,#REF!)>0,IFERROR(VLOOKUP($F262&"",学年成绩!$A$2:$B$462,2,FALSE)<>"100%",FALSE)),"是","") | O262: 三等奖 | P262: 陈静欣
A263: =ROW(A60) -> 60 | B263: 2025 | C263: 人工智能与低空技术学院 | D263: 电子信息工程 | E263: 25电信2 | F263: 202534310219 | G263: 女 | H263: 4.29 | I263: 15 | J263: 84.14 | K263: =ROW()-203 -> 60 | L263: 13 | M263: =IF(COUNTIF(体测成绩!$A$2:$A$530,$F263&"")=0,"",IF(VLOOKUP($F263&"",体测成绩!$A$2:$B$530,2,FALSE)="免测",80,VLOOKUP($F263&"",体测成绩!$A$2:$B$530,2,FALSE))) -> 82.3 | N263: =IF(OR(IFERROR(VALUE(M263)<80,FALSE),COUNTIF(缓考名单!$A$2:$A$49,$F263&"")>0,COUNTIF(缓考名单!$B$2:$B$49,#REF!)>0,IFERROR(VLOOKUP($F263&"",学年成绩!$A$2:$B$462,2,FALSE)<>"100%",FALSE)),"是","") | O263: 三等奖 | P263: 瞿韵涵
A264: 61 | B264: 2025 | C264: 人工智能与低空技术学院 | D264: 人工智能 | E264: 25人工智能1 | F264: 202534610110 | G264: 男 | H264: 3.87 | I264: 29 | J264: 83.98 | K264: =ROW()-203 -> 61 | L264: 12 | M264: =IF(COUNTIF(体测成绩!$A$2:$A$530,$F264&"")=0,"",IF(VLOOKUP($F264&"",体测成绩!$A$2:$B$530,2,FALSE)="免测",80,VLOOKUP($F264&"",体测成绩!$A$2:$B$530,2,FALSE))) -> 90.8 | N264: =IF(OR(IFERROR(VALUE(M264)<80,FALSE),COUNTIF(缓考名单!$A$2:$A$49,$F264&"")>0,COUNTIF(缓考名单!$B$2:$B$49,#REF!)>0,IFERROR(VLOOKUP($F264&"",学年成绩!$A$2:$B$462,2,FALSE)<>"100%",FALSE)),"是","") | O264: 三等奖 | P264: 林嘉涛
A265: =ROW(A62) -> 62 | B265: 2025 | C265: 人工智能与低空技术学院 | D265: 集成电路设计与集成系统 | E265: 25集成电路1 | F265: 202534710125 | G265: 女 | H265: 4.23 | I265: 14 | J265: 83.83 | K265: =ROW()-203 -> 62 | L265: 6 | M265: =IF(COUNTIF(体测成绩!$A$2:$A$530,$F265&"")=0,"",IF(VLOOKUP($F265&"",体测成绩!$A$2:$B$530,2,FALSE)="免测",80,VLOOKUP($F265&"",体测成绩!$A$2:$B$530,2,FALSE))) -> 81.0 | N265: =IF(OR(IFERROR(VALUE(M265)<80,FALSE),COUNTIF(缓考名单!$A$2:$A$49,$F265&"")>0,COUNTIF(缓考名单!$B$2:$B$49,#REF!)>0,IFERROR(VLOOKUP($F265&"",学年成绩!$A$2:$B$462,2,FALSE)<>"100%",FALSE)),"是","") | O265: 三等奖 | P265: 王晓凌
A266: =ROW(A63) -> 63 | B266: 2025 | C266: 人工智能与低空技术学院 | D266: 光电信息科学与工程 | E266: 25光信息2 | F266: 202534510207 | G266: 女 | H266: 4.55 | I266: 1 | J266: 83.81 | K266: =ROW()-203 -> 63 | L266: 5 | M266: =IF(COUNTIF(体测成绩!$A$2:$A$530,$F266&"")=0,"",IF(VLOOKUP($F266&"",体测成绩!$A$2:$B$530,2,FALSE)="免测",80,VLOOKUP($F266&"",体测成绩!$A$2:$B$530,2,FALSE))) -> 72.2 | N266: =IF(OR(IFERROR(VALUE(M266)<80,FALSE),COUNTIF(缓考名单!$A$2:$A$49,$F266&"")>0,COUNTIF(缓考名单!$B$2:$B$49,#REF!)>0,IFERROR(VLOOKUP($F266&"",学年成绩!$A$2:$B$462,2,FALSE)<>"100%",FALSE)),"是","") -> 是 | P266: 何晓晴
A267: 64 | B267: 2025 | C267: 人工智能与低空技术学院 | D267: 人工智能 | E267: 25人工智能1 | F267: 202534610122 | G267: 女 | H267: 4.33 | I267: 10 | J267: 83.75 | K267: =ROW()-203 -> 64 | L267: 13 | M267: =IF(COUNTIF(体测成绩!$A$2:$A$530,$F267&"")=0,"",IF(VLOOKUP($F267&"",体测成绩!$A$2:$B$530,2,FALSE)="免测",80,VLOOKUP($F267&"",体测成绩!$A$2:$B$530,2,FALSE))) -> 73.6 | N267: =IF(OR(IFERROR(VALUE(M267)<80,FALSE),COUNTIF(缓考名单!$A$2:$A$49,$F267&"")>0,COUNTIF(缓考名单!$B$2:$B$49,#REF!)>0,IFERROR(VLOOKUP($F267&"",学年成绩!$A$2:$B$462,2,FALSE)<>"100%",FALSE)),"是","") -> 是 | P267: 肖宇茜
A268: =ROW(A65) -> 65 | B268: 2025 | C268: 人工智能与低空技术学院 | D268: 电子信息科学与技术 | E268: 25电信科技3 | F268: 202534410320 | G268: 女 | H268: 4.3 | I268: 12 | J268: 83.53 | K268: =ROW()-203 -> 65 | L268: 11 | M268: =IF(COUNTIF(体测成绩!$A$2:$A$530,$F268&"")=0,"",IF(VLOOKUP($F268&"",体测成绩!$A$2:$B$530,2,FALSE)="免测",80,VLOOKUP($F268&"",体测成绩!$A$2:$B$530,2,FALSE))) -> 80.3 | N268: =IF(OR(IFERROR(VALUE(M268)<80,FALSE),COUNTIF(缓考名单!$A$2:$A$49,$F268&"")>0,COUNTIF(缓考名单!$B$2:$B$49,#REF!)>0,IFERROR(VLOOKUP($F268&"",学年成绩!$A$2:$B$462,2,FALSE)<>"100%",FALSE)),"是","") | O268: 三等奖 | P268: 卿善珏
A269: =ROW(A66) -> 66 | B269: 2025 | C269: 人工智能与低空技术学院 | D269: 集成电路设计与集成系统（龙芯创新班） | E269: 25集成电路(龙芯班)1 | F269: 202534410103 | G269: 女 | H269: 3.99 | I269: 8 | J269: 83.39 | K269: =ROW()-203 -> 66 | L269: 6 | M269: =IF(COUNTIF(体测成绩!$A$2:$A$530,$F269&"")=0,"",IF(VLOOKUP($F269&"",体测成绩!$A$2:$B$530,2,FALSE)="免测",80,VLOOKUP($F269&"",体测成绩!$A$2:$B$530,2,FALSE))) -> 83.2 | N269: =IF(OR(IFERROR(VALUE(M269)<80,FALSE),COUNTIF(缓考名单!$A$2:$A$49,$F269&"")>0,COUNTIF(缓考名单!$B$2:$B$49,#REF!)>0,IFERROR(VLOOKUP($F269&"",学年成绩!$A$2:$B$462,2,FALSE)<>"100%",FALSE)),"是","") | O269: 三等奖 | P269: 陈健迩
A270: =ROW(A67) -> 67 | B270: 2025 | C270: 人工智能与低空技术学院 | D270: 电子信息科学与技术 | E270: 25电信科技3 | F270: 202534410305 | G270: 女 | H270: 4.36 | I270: 10 | J270: 83.14 | K270: =ROW()-203 -> 67 | L270: 12 | M270: =IF(COUNTIF(体测成绩!$A$2:$A$530,$F270&"")=0,"",IF(VLOOKUP($F270&"",体测成绩!$A$2:$B$530,2,FALSE)="免测",80,VLOOKUP($F270&"",体测成绩!$A$2:$B$530,2,FALSE))) -> 84.3 | N270: =IF(OR(IFERROR(VALUE(M270)<80,FALSE),COUNTIF(缓考名单!$A$2:$A$49,$F270&"")>0,COUNTIF(缓考名单!$B$2:$B$49,#REF!)>0,IFERROR(VLOOKUP($F270&"",学年成绩!$A$2:$B$462,2,FALSE)<>"100%",FALSE)),"是","") | O270: 三等奖 | P270: 邓喜睿
A271: =ROW(A68) -> 68 | B271: 2025 | C271: 人工智能与低空技术学院 | D271: 电子信息工程 | E271: 25电信3 | F271: 202534310309 | G271: 女 | H271: 4.44 | I271: 7 | J271: 83.01 | K271: =ROW()-203 -> 68 | L271: 14 | M271: =IF(COUNTIF(体测成绩!$A$2:$A$530,$F271&"")=0,"",IF(VLOOKUP($F271&"",体测成绩!$A$2:$B$530,2,FALSE)="免测",80,VLOOKUP($F271&"",体测成绩!$A$2:$B$530,2,FALSE))) -> 83.5 | N271: =IF(OR(IFERROR(VALUE(M271)<80,FALSE),COUNTIF(缓考名单!$A$2:$A$49,$F271&"")>0,COUNTIF(缓考名单!$B$2:$B$49,#REF!)>0,IFERROR(VLOOKUP($F271&"",学年成绩!$A$2:$B$462,2,FALSE)<>"100%",FALSE)),"是","") | O271: 三等奖 | P271: 黄梦琪
A272: =ROW(A69) -> 69 | B272: 2025 | C272: 人工智能与低空技术学院 | D272: 集成电路设计与集成系统（龙芯创新班） | E272: 25集成电路(龙芯班)1 | F272: 202534720111 | G272: 男 | H272: 4.45 | I272: 1 | J272: 82.75 | K272: =ROW()-203 -> 69 | L272: 7 | M272: =IF(COUNTIF(体测成绩!$A$2:$A$530,$F272&"")=0,"",IF(VLOOKUP($F272&"",体测成绩!$A$2:$B$530,2,FALSE)="免测",80,VLOOKUP($F272&"",体测成绩!$A$2:$B$530,2,FALSE))) -> 83.9 | N272: =IF(OR(IFERROR(VALUE(M272)<80,FALSE),COUNTIF(缓考名单!$A$2:$A$49,$F272&"")>0,COUNTIF(缓考名单!$B$2:$B$49,#REF!)>0,IFERROR(VLOOKUP($F272&"",学年成绩!$A$2:$B$462,2,FALSE)<>"100%",FALSE)),"是","") | O272: 三等奖 | P272: 李明远
A273: =ROW(A70) -> 70 | B273: 2025 | C273: 人工智能与低空技术学院 | D273: 电子信息工程 | E273: 25电信2 | F273: 202534310231 | G273: 男 | H273: 4.43 | I273: 9 | J273: 82.75 | K273: =ROW()-203 -> 70 | L273: 15 | M273: =IF(COUNTIF(体测成绩!$A$2:$A$530,$F273&"")=0,"",IF(VLOOKUP($F273&"",体测成绩!$A$2:$B$530,2,FALSE)="免测",80,VLOOKUP($F273&"",体测成绩!$A$2:$B$530,2,FALSE))) -> 63.9 | N273: =IF(OR(IFERROR(VALUE(M273)<80,FALSE),COUNTIF(缓考名单!$A$2:$A$49,$F273&"")>0,COUNTIF(缓考名单!$B$2:$B$49,#REF!)>0,IFERROR(VLOOKUP($F273&"",学年成绩!$A$2:$B$462,2,FALSE)<>"100%",FALSE)),"是","") -> 是 | P273: 周进凯
A274: =ROW(A71) -> 71 | B274: 2025 | C274: 人工智能与低空技术学院 | D274: 光电信息科学与工程 | E274: 25光信息1 | F274: 202528150113 | G274: 男 | H274: 4.21 | I274: 11 | J274: 82.65 | K274: =ROW()-203 -> 71 | L274: 6 | M274: 100 | N274: =IF(OR(IFERROR(VALUE(M274)<80,FALSE),COUNTIF(缓考名单!$A$2:$A$49,$F274&"")>0,COUNTIF(缓考名单!$B$2:$B$49,#REF!)>0,IFERROR(VLOOKUP($F274&"",学年成绩!$A$2:$B$462,2,FALSE)<>"100%",FALSE)),"是","") | O274: 三等奖 | P274: 林坤杰
A275: =ROW(A72) -> 72 | B275: 2025 | C275: 人工智能与低空技术学院 | D275: 人工智能 | E275: 25人工智能2 | F275: 202534610217 | G275: 女 | H275: 4.15 | I275: 14 | J275: 82.56 | K275: =ROW()-203 -> 72 | L275: 14 | M275: =IF(COUNTIF(体测成绩!$A$2:$A$530,$F275&"")=0,"",IF(VLOOKUP($F275&"",体测成绩!$A$2:$B$530,2,FALSE)="免测",80,VLOOKUP($F275&"",体测成绩!$A$2:$B$530,2,FALSE))) -> 80.7 | N275: =IF(OR(IFERROR(VALUE(M275)<80,FALSE),COUNTIF(缓考名单!$A$2:$A$49,$F275&"")>0,COUNTIF(缓考名单!$B$2:$B$49,#REF!)>0,IFERROR(VLOOKUP($F275&"",学年成绩!$A$2:$B$462,2,FALSE)<>"100%",FALSE)),"是","") | O275: 三等奖 | P275: 吕晓凤
A276: =ROW(A73) -> 73 | B276: 2025 | C276: 人工智能与低空技术学院 | D276: 人工智能（昇腾AI智创班） | E276: 25人工智能(智创班)1 | F276: 202534630129 | G276: 男 | H276: 4.11 | I276: 6 | J276: 82.53 | K276: =ROW()-203 -> 73 | L276: 3 | M276: =IF(COUNTIF(体测成绩!$A$2:$A$530,$F276&"")=0,"",IF(VLOOKUP($F276&"",体测成绩!$A$2:$B$530,2,FALSE)="免测",80,VLOOKUP($F276&"",体测成绩!$A$2:$B$530,2,FALSE))) -> 82.8 | N276: =IF(OR(IFERROR(VALUE(M276)<80,FALSE),COUNTIF(缓考名单!$A$2:$A$49,$F276&"")>0,COUNTIF(缓考名单!$B$2:$B$49,#REF!)>0,IFERROR(VLOOKUP($F276&"",学年成绩!$A$2:$B$462,2,FALSE)<>"100%",FALSE)),"是","") | O276: 三等奖 | P276: 赵荣豪
A277: =ROW(A74) -> 74 | B277: 2025 | C277: 人工智能与低空技术学院 | D277: 电子信息工程 | E277: 25电信2 | F277: 202534310225 | G277: 男 | H277: 4.09 | I277: 25 | J277: 82.45 | K277: =ROW()-203 -> 74 | L277: 16 | M277: =IF(COUNTIF(体测成绩!$A$2:$A$530,$F277&"")=0,"",IF(VLOOKUP($F277&"",体测成绩!$A$2:$B$530,2,FALSE)="免测",80,VLOOKUP($F277&"",体测成绩!$A$2:$B$530,2,FALSE))) -> 82.1 | N277: =IF(OR(IFERROR(VALUE(M277)<80,FALSE),COUNTIF(缓考名单!$A$2:$A$49,$F277&"")>0,COUNTIF(缓考名单!$B$2:$B$49,#REF!)>0,IFERROR(VLOOKUP($F277&"",学年成绩!$A$2:$B$462,2,FALSE)<>"100%",FALSE)),"是","") | O277: 三等奖 | P277: 许永祺
A278: 75 | B278: 2025 | C278: 人工智能与低空技术学院 | D278: 人工智能 | E278: 25人工智能1 | F278: 202514510108 | G278: 女 | H278: 4.28 | I278: 11 | J278: 82.41 | K278: =ROW()-203 -> 75 | L278: 15 | M278: 83.1 | N278: =IF(OR(IFERROR(VALUE(M278)<80,FALSE),COUNTIF(缓考名单!$A$2:$A$49,$F278&"")>0,COUNTIF(缓考名单!$B$2:$B$49,#REF!)>0,IFERROR(VLOOKUP($F278&"",学年成绩!$A$2:$B$462,2,FALSE)<>"100%",FALSE)),"是","") | O278: 三等奖 | P278: 郭亚丝
A279: =ROW(A76) -> 76 | B279: 2025 | C279: 人工智能与低空技术学院 | D279: 电子信息工程 | E279: 25电信3 | F279: 202534310304 | G279: 男 | H279: 4.44 | I279: 8 | J279: 82.4 | K279: =ROW()-203 -> 76 | L279: 17 | M279: =IF(COUNTIF(体测成绩!$A$2:$A$530,$F279&"")=0,"",IF(VLOOKUP($F279&"",体测成绩!$A$2:$B$530,2,FALSE)="免测",80,VLOOKUP($F279&"",体测成绩!$A$2:$B$530,2,FALSE))) -> 81.1 | N279: =IF(OR(IFERROR(VALUE(M279)<80,FALSE),COUNTIF(缓考名单!$A$2:$A$49,$F279&"")>0,COUNTIF(缓考名单!$B$2:$B$49,#REF!)>0,IFERROR(VLOOKUP($F279&"",学年成绩!$A$2:$B$462,2,FALSE)<>"100%",FALSE)),"是","") | O279: 三等奖 | P279: 池钧泰
A280: =ROW(A77) -> 77 | B280: 2025 | C280: 人工智能与低空技术学院 | D280: 人工智能 | E280: 25人工智能2 | F280: 202534610230 | G280: 女 | H280: 4.13 | I280: 17 | J280: 82.34 | K280: =ROW()-203 -> 77 | L280: 16 | M280: =IF(COUNTIF(体测成绩!$A$2:$A$530,$F280&"")=0,"",IF(VLOOKUP($F280&"",体测成绩!$A$2:$B$530,2,FALSE)="免测",80,VLOOKUP($F280&"",体测成绩!$A$2:$B$530,2,FALSE))) -> 82.0 | N280: =IF(OR(IFERROR(VALUE(M280)<80,FALSE),COUNTIF(缓考名单!$A$2:$A$49,$F280&"")>0,COUNTIF(缓考名单!$B$2:$B$49,#REF!)>0,IFERROR(VLOOKUP($F280&"",学年成绩!$A$2:$B$462,2,FALSE)<>"100%",FALSE)),"是","") | O280: 三等奖 | P280: 张译丹
A281: =ROW(A78) -> 78 | B281: 2025 | C281: 人工智能与低空技术学院 | D281: 电子信息科学与技术 | E281: 25电信科技2 | F281: 202534410218 | G281: 男 | H281: 4.09 | I281: 20 | J281: 82.22 | K281: =ROW()-203 -> 78 | L281: 13 | M281: =IF(COUNTIF(体测成绩!$A$2:$A$530,$F281&"")=0,"",IF(VLOOKUP($F281&"",体测成绩!$A$2:$B$530,2,FALSE)="免测",80,VLOOKUP($F281&"",体测成绩!$A$2:$B$530,2,FALSE))) -> 65.2 | N281: =IF(OR(IFERROR(VALUE(M281)<80,FALSE),COUNTIF(缓考名单!$A$2:$A$49,$F281&"")>0,COUNTIF(缓考名单!$B$2:$B$49,#REF!)>0,IFERROR(VLOOKUP($F281&"",学年成绩!$A$2:$B$462,2,FALSE)<>"100%",FALSE)),"是","") -> 是 | P281: 罗俊恒
A282: =ROW(A79) -> 79 | B282: 2025 | C282: 人工智能与低空技术学院 | D282: 电子信息工程（数字技术创新班） | E282: 25电信(创新班)1 | F282: 202534320114 | G282: 女 | H282: 3.96 | I282: 16 | J282: 82.19 | K282: =ROW()-203 -> 79 | L282: 11 | M282: =IF(COUNTIF(体测成绩!$A$2:$A$530,$F282&"")=0,"",IF(VLOOKUP($F282&"",体测成绩!$A$2:$B$530,2,FALSE)="免测",80,VLOOKUP($F282&"",体测成绩!$A$2:$B$530,2,FALSE))) -> 64.9 | N282: =IF(OR(IFERROR(VALUE(M282)<80,FALSE),COUNTIF(缓考名单!$A$2:$A$49,$F282&"")>0,COUNTIF(缓考名单!$B$2:$B$49,#REF!)>0,IFERROR(VLOOKUP($F282&"",学年成绩!$A$2:$B$462,2,FALSE)<>"100%",FALSE)),"是","") -> 是 | P282: 梁冬儿
A283: =ROW(A80) -> 80 | B283: 2025 | C283: 人工智能与低空技术学院 | D283: 光电信息科学与工程 | E283: 25光信息2 | F283: 202534510215 | G283: 女 | H283: 4.26 | I283: 6 | J283: 82.11 | K283: =ROW()-203 -> 80 | L283: 8 | M283: =IF(COUNTIF(体测成绩!$A$2:$A$530,$F283&"")=0,"",IF(VLOOKUP($F283&"",体测成绩!$A$2:$B$530,2,FALSE)="免测",80,VLOOKUP($F283&"",体测成绩!$A$2:$B$530,2,FALSE))) -> 82.6 | N283: =IF(OR(IFERROR(VALUE(M283)<80,FALSE),COUNTIF(缓考名单!$A$2:$A$49,$F283&"")>0,COUNTIF(缓考名单!$B$2:$B$49,#REF!)>0,IFERROR(VLOOKUP($F283&"",学年成绩!$A$2:$B$462,2,FALSE)<>"100%",FALSE)),"是","") | O283: 三等奖 | P283: 林楚纯
A284: =ROW(A81) -> 81 | B284: 2025 | C284: 人工智能与低空技术学院 | D284: 集成电路设计与集成系统 | E284: 25集成电路1 | F284: 202534710121 | G284: 女 | H284: 4.43 | I284: 3 | J284: 82.1 | K284: =ROW()-203 -> 81 | L284: 7 | M284: =IF(COUNTIF(体测成绩!$A$2:$A$530,$F284&"")=0,"",IF(VLOOKUP($F284&"",体测成绩!$A$2:$B$530,2,FALSE)="免测",80,VLOOKUP($F284&"",体测成绩!$A$2:$B$530,2,FALSE))) -> 85.4 | N284: =IF(OR(IFERROR(VALUE(M284)<80,FALSE),COUNTIF(缓考名单!$A$2:$A$49,$F284&"")>0,COUNTIF(缓考名单!$B$2:$B$49,#REF!)>0,IFERROR(VLOOKUP($F284&"",学年成绩!$A$2:$B$462,2,FALSE)<>"100%",FALSE)),"是","") | O284: 三等奖 | P284: 唐可欣
A285: =ROW(A82) -> 82 | B285: 2025 | C285: 人工智能与低空技术学院 | D285: 电子信息科学与技术 | E285: 25电信科技1 | F285: 202534410114 | G285: 女 | H285: 4.28 | I285: 13 | J285: 82.08 | K285: =ROW()-203 -> 82 | L285: 14 | M285: =IF(COUNTIF(体测成绩!$A$2:$A$530,$F285&"")=0,"",IF(VLOOKUP($F285&"",体测成绩!$A$2:$B$530,2,FALSE)="免测",80,VLOOKUP($F285&"",体测成绩!$A$2:$B$530,2,FALSE))) -> 86.9 | N285: =IF(OR(IFERROR(VALUE(M285)<80,FALSE),COUNTIF(缓考名单!$A$2:$A$49,$F285&"")>0,COUNTIF(缓考名单!$B$2:$B$49,#REF!)>0,IFERROR(VLOOKUP($F285&"",学年成绩!$A$2:$B$462,2,FALSE)<>"100%",FALSE)),"是","") | O285: 三等奖 | P285: 刘致乐
A286: =ROW(A83) -> 83 | B286: 2025 | C286: 人工智能与低空技术学院 | D286: 集成电路设计与集成系统（龙芯创新班） | E286: 25集成电路(龙芯班)1 | F286: 202528210230 | G286: 女 | H286: 3.77 | I286: 15 | J286: 81.97 | K286: =ROW()-203 -> 83 | L286: 8 | M286: 84 | N286: =IF(OR(IFERROR(VALUE(M286)<80,FALSE),COUNTIF(缓考名单!$A$2:$A$49,$F286&"")>0,COUNTIF(缓考名单!$B$2:$B$49,#REF!)>0,IFERROR(VLOOKUP($F286&"",学年成绩!$A$2:$B$462,2,FALSE)<>"100%",FALSE)),"是","") | O286: 三等奖 | P286: 郑琳淳
A287: =ROW(A84) -> 84 | B287: 2025 | C287: 人工智能与低空技术学院 | D287: 电子信息科学与技术 | E287: 25电信科技1 | F287: 202534410120 | G287: 女 | H287: 3.99 | I287: 24 | J287: 81.93 | K287: =ROW()-203 -> 84 | L287: 15 | M287: =IF(COUNTIF(体测成绩!$A$2:$A$530,$F287&"")=0,"",IF(VLOOKUP($F287&"",体测成绩!$A$2:$B$530,2,FALSE)="免测",80,VLOOKUP($F287&"",体测成绩!$A$2:$B$530,2,FALSE))) -> 74.3 | N287: =IF(OR(IFERROR(VALUE(M287)<80,FALSE),COUNTIF(缓考名单!$A$2:$A$49,$F287&"")>0,COUNTIF(缓考名单!$B$2:$B$49,#REF!)>0,IFERROR(VLOOKUP($F287&"",学年成绩!$A$2:$B$462,2,FALSE)<>"100%",FALSE)),"是","") -> 是 | P287: 宋佩娜
A288: =ROW(A85) -> 85 | B288: 2025 | C288: 人工智能与低空技术学院 | D288: 人工智能（昇腾AI智创班） | E288: 25人工智能(智创班)1 | F288: 202534630110 | G288: 男 | H288: 4.04 | I288: 8 | J288: 81.8 | K288: =ROW()-203 -> 85 | L288: 4 | M288: =IF(COUNTIF(体测成绩!$A$2:$A$530,$F288&"")=0,"",IF(VLOOKUP($F288&"",体测成绩!$A$2:$B$530,2,FALSE)="免测",80,VLOOKUP($F288&"",体测成绩!$A$2:$B$530,2,FALSE))) -> 83.2 | N288: =IF(OR(IFERROR(VALUE(M288)<80,FALSE),COUNTIF(缓考名单!$A$2:$A$49,$F288&"")>0,COUNTIF(缓考名单!$B$2:$B$49,#REF!)>0,IFERROR(VLOOKUP($F288&"",学年成绩!$A$2:$B$462,2,FALSE)<>"100%",FALSE)),"是","") | O288: 三等奖 | P288: 黄俊超
A289: =ROW(A86) -> 86 | B289: 2025 | C289: 人工智能与低空技术学院 | D289: 集成电路设计与集成系统 | E289: 25集成电路1 | F289: 202534710130 | G289: 男 | H289: 4.06 | I289: 19 | J289: 81.54 | K289: =ROW()-203 -> 86 | L289: 8 | M289: =IF(COUNTIF(体测成绩!$A$2:$A$530,$F289&"")=0,"",IF(VLOOKUP($F289&"",体测成绩!$A$2:$B$530,2,FALSE)="免测",80,VLOOKUP($F289&"",体测成绩!$A$2:$B$530,2,FALSE))) -> 72.4 | N289: =IF(OR(IFERROR(VALUE(M289)<80,FALSE),COUNTIF(缓考名单!$A$2:$A$49,$F289&"")>0,COUNTIF(缓考名单!$B$2:$B$49,#REF!)>0,IFERROR(VLOOKUP($F289&"",学年成绩!$A$2:$B$462,2,FALSE)<>"100%",FALSE)),"是","") -> 是 | P289: 杨乐
A290: =ROW(A87) -> 87 | B290: 2025 | C290: 人工智能与低空技术学院 | D290: 光电信息科学与工程 | E290: 25光信息3 | F290: 202534510320 | G290: 女 | H290: 4.22 | I290: 8 | J290: 81.35 | K290: =ROW()-203 -> 87 | L290: 9 | M290: =IF(COUNTIF(体测成绩!$A$2:$A$530,$F290&"")=0,"",IF(VLOOKUP($F290&"",体测成绩!$A$2:$B$530,2,FALSE)="免测",80,VLOOKUP($F290&"",体测成绩!$A$2:$B$530,2,FALSE))) -> 77.4 | N290: =IF(OR(IFERROR(VALUE(M290)<80,FALSE),COUNTIF(缓考名单!$A$2:$A$49,$F290&"")>0,COUNTIF(缓考名单!$B$2:$B$49,#REF!)>0,IFERROR(VLOOKUP($F290&"",学年成绩!$A$2:$B$462,2,FALSE)<>"100%",FALSE)),"是","") -> 是 | P290: 潘轩怡
A291: =ROW(A88) -> 88 | B291: 2025 | C291: 人工智能与低空技术学院 | D291: 人工智能（昇腾AI智创班） | E291: 25人工智能(智创班)1 | F291: 202514220111 | G291: 男 | H291: 4.23 | I291: 5 | J291: 81.26 | K291: =ROW()-203 -> 88 | L291: 5 | M291: 99 | N291: =IF(OR(IFERROR(VALUE(M291)<80,FALSE),COUNTIF(缓考名单!$A$2:$A$49,$F291&"")>0,COUNTIF(缓考名单!$B$2:$B$49,#REF!)>0,IFERROR(VLOOKUP($F291&"",学年成绩!$A$2:$B$462,2,FALSE)<>"100%",FALSE)),"是","") | O291: 三等奖 | P291: 黄金彬
...

Sheet 缓考名单
A1: 学号 | B1: 姓名
A2: 202534630125 | B2: 叶俊豪
A3: 202434410232 | B3: 周勇
A4: 202328110104 | B4: 党浩诚
A5: 202534720102 | B5: 陈杏儿
A6: 202534710128 | B6: 魏铄
A7: 202534710128 | B7: 魏铄
A8: 202434610222 | B8: 王义深
A9: 202234510224 | B9: 吴子骥
A10: 202434310419 | B10: 罗舒元
A11: 202434510126 | B11: 徐靖雯
A12: 202334510220 | B12: 乔丹忆
... A49: 202534720102 | B49: 陈杏儿

Sheet 学年成绩
A1: 学号 | B1: 通过率
A2: 202534310212 | B2: 100%
A3: 202534510105 | B3: 100%
A4: 202534710216 | B4: 100%
A5: 202534320117 | B5: 100%
A6: 202519110311 | B6: 100%
A7: 202534410312 | B7: 100%
A8: 202534610207 | B8: 100%
A9: 202534410114 | B9: 100%
A10: 202534410309 | B10: 100%
A11: 202534710116 | B11: 100%
A12: 202534720119 | B12: 100%
... A462: 202534610214 | B462: 85.71%

Sheet 体测成绩
A1: 学号 | B1: 总分
A2: 202534510230 | B2: 75.3
A3: 202534410215 | B3: 62.4
A4: 202534320102 | B4: 68.8
A5: 202534510131 | B5: 85.8
A6: 202534510113 | B6: 69.4
A7: 202534510306 | B7: 61.4
A8: 202534310223 | B8: 86.2
A9: 202534310318 | B9: 73.6
A10: 202534610231 | B10: 50.1
A11: 202534310105 | B11: 87.2
A12: 202534610206 | B12: 82.8
... A25: 202534310101 | B25: 75.4
A26: 202534710202
A27: 202534710119 | B27: 76.8
A28: 202534410214 | B28: 83.3
A29: 202534710113 | B29: 73.2
A30: 202534510220 | B30: 82.3
A31: 202534410118 | B31: 68.5
A32: 202534610213 | B32: 80.2
A33: 202534610106
A34: 202534710118 | B34: 74.4
A35: 202534630118 | B35: 83.1
A36: 202534310126 | B36: 67.5
A37: 202534710205 | B37: 87.1
A38: 202534320108 | B38: 80.6
A39: 202534310213 | B39: 82.8
A40: 202534310308 | B40: 93.0
A41: 202534710210
A42: 202534610215 | B42: 86.9
A43: 202534410225 | B43: 73.5
A44: 202534630115 | B44: 65.4
A45: 202534510218 | B45: 85.3
A46: 202534720114 | B46: 66.6
A47: 202534510322 | B47: 76.8
A48: 202534310207 | B48: 56.7
A49: 202534510116 | B49: 97.9
A50: 202534310220 | B50: 73.5
A51: 202534510106 | B51: 80.5
A52: 202534630105 | B52: 66.6
A53: 202534310230 | B53: 87.3
... A119: 202534510221 | B119: 85.6
A120: 202534310132
A121: 202534310315 | B121: 98.0
A122: 202534510333 | B122: 93.9
A123: 202534510328 | B123: 64.4
A124: 202534610205 | B124: 89.8
A125: 202534320110 | B125: 81.8
A126: 202534510329 | B126: 66.4
A127: 202534630112 | B127: 73.8
A128: 202534610111 | B128: 78.0
A129: 202534310125 | B129: 78.9
A130: 202534310309 | B130: 83.5
A131: 202534630104 | B131: 88.4
A132: 202534610103 | B132: 72.3
... A141: 202534310131 | B141: 80.1
A142: 202534710131
A143: 202534410132 | B143: 86.0
A144: 202534510208 | B144: 88.3
A145: 202534710213 | B145: 80.3
A146: 202534710217 | B146: 82.6
A147: 202534610230 | B147: 82.0
A148: 202534610125 | B148: 68.4
A149: 202534410210 | B149: 70.2
A150: 202534410303 | B150: 92.8
A151: 202534320104 | B151: 80.5
A152: 202534310212 | B152: 71.0
A153: 202534310331 | B153: 80.1
A154: 202534410325 | B154: 71.7
... A190: 202534610201 | B190: 80.7
A191: 202534310117
A192: 202534510109 | B192: 63.2
A193: 202534610131 | B193: 81.1
A194: 202534410304 | B194: 76.4
A195: 202534510213 | B195: 74.9
A196: 202534410204 | B196: 82.1
A197: 202534510330 | B197: 80.2
A198: 202534410308 | B198: 73.2
A199: 202534410131 | B199: 82.8
A200: 202534720128 | B200: 67.5
A201: 202534510312 | B201: 82.7
A202: 202534410227 | B202: 71.4
A203: 202534410301 | B203: 70.0
... A250: 202534310314 | B250: 89.6
A251: 202534410319
A252: 202534510234 | B252: 76.6
A253: 202534310224 | B253: 74.3
A254: 202534410306 | B254: 76.5
A255: 202534720126 | B255: 80.8
A256: 202534320124 | B256: 67.7
A257: 202534410332 | B257: 84.9
A258: 202534410321 | B258: 84.6
A259: 202534720110 | B259: 60.8
A260: 202534310133 | B260: 85.7
A261: 202534630108 | B261: 75.2
A262: 202534410307 | B262: 85.2
A263: 202534720118 | B263: 59.8
... A417: 202534710230 | B417: 73.5
A418: 202534320105
A419: 202534320128 | B419: 74.8
...
