Workbook

Sheet columnsExportTest
A1: 序号 | B1: 年级 | C1: 学院 | D1: 专业 | E1: 班级 | F1: 学号 | G1: 性别 | H1: 平均绩点 | I1: 专业排名（绩点） | J1: 综测总分 | K1: 年级排名 | L1: 专业排名 | M1: 体测成绩 | N1: 是否体测未达到80/有挂科/有违纪/缓考 | O1: 拟获奖 | P1: 姓名
A3: 1 | B3: 2023 | C3: 人工智能与低空技术学院 | D3: 人工智能 | E3: 23人工智能1 | F3: 202334610105 | G3: 男 | H3: 3.57 | I3: 100 | J3: 21 | K3: 256 | L3: 0 | M3: =IF(COUNTIF(体测成绩!$A$2:$A$530,$F3&"")=0,"",IF(VLOOKUP($F3&"",体测成绩!$A$2:$B$530,2,FALSE)="免测",80,VLOOKUP($F3&"",体测成绩!$A$2:$B$530,2,FALSE))) | N3: =IF(OR(IFERROR(VALUE(M3)<80,FALSE),COUNTIF(缓考名单!$A$2:$A$49,$F3&"")>0,COUNTIF(缓考名单!$B$2:$B$49,#REF!)>0,IFERROR(VLOOKUP($F3&"",学年成绩!$A$2:$B$462,2,FALSE)<>"100%",FALSE)),"是","")
A4: 2 | B4: 2023 | C4: 人工智能与低空技术学院 | D4: 人工智能 | E4: 23人工智能1 | F4: 202334610120 | G4: 男 | H4: 4.1 | I4: 35 | J4: 21 | K4: 256 | L4: 0 | M4: =IF(COUNTIF(体测成绩!$A$2:$A$530,$F4&"")=0,"",IF(VLOOKUP($F4&"",体测成绩!$A$2:$B$530,2,FALSE)="免测",80,VLOOKUP($F4&"",体测成绩!$A$2:$B$530,2,FALSE))) | N4: =IF(OR(IFERROR(VALUE(M4)<80,FALSE),COUNTIF(缓考名单!$A$2:$A$49,$F4&"")>0,COUNTIF(缓考名单!$B$2:$B$49,#REF!)>0,IFERROR(VLOOKUP($F4&"",学年成绩!$A$2:$B$462,2,FALSE)<>"100%",FALSE)),"是","")
A5: 3 | B5: 2023 | C5: 人工智能与低空技术学院 | D5: 人工智能 | E5: 23人工智能1 | F5: 202334610125 | G5: 男 | H5: 3.77 | I5: 81 | J5: 21 | K5: 256 | L5: 0 | M5: =IF(COUNTIF(体测成绩!$A$2:$A$530,$F5&"")=0,"",IF(VLOOKUP($F5&"",体测成绩!$A$2:$B$530,2,FALSE)="免测",80,VLOOKUP($F5&"",体测成绩!$A$2:$B$530,2,FALSE))) | N5: =IF(OR(IFERROR(VALUE(M5)<80,FALSE),COUNTIF(缓考名单!$A$2:$A$49,$F5&"")>0,COUNTIF(缓考名单!$B$2:$B$49,#REF!)>0,IFERROR(VLOOKUP($F5&"",学年成绩!$A$2:$B$462,2,FALSE)<>"100%",FALSE)),"是","")
A6: 4 | B6: 2023 | C6: 人工智能与低空技术学院 | D6: 人工智能 | E6: 23人工智能1 | F6: 202334610117 | G6: 男 | H6: 3.55 | I6: 104 | J6: 21 | K6: 256 | L6: 0 | M6: =IF(COUNTIF(体测成绩!$A$2:$A$530,$F6&"")=0,"",IF(VLOOKUP($F6&"",体测成绩!$A$2:$B$530,2,FALSE)="免测",80,VLOOKUP($F6&"",体测成绩!$A$2:$B$530,2,FALSE))) | N6: =IF(OR(IFERROR(VALUE(M6)<80,FALSE),COUNTIF(缓考名单!$A$2:$A$49,$F6&"")>0,COUNTIF(缓考名单!$B$2:$B$49,#REF!)>0,IFERROR(VLOOKUP($F6&"",学年成绩!$A$2:$B$462,2,FALSE)<>"100%",FALSE)),"是","")
A7: 5 | B7: 2023 | C7: 人工智能与低空技术学院 | D7: 人工智能 | E7: 23人工智能1 | F7: 202334610106 | G7: 女 | H7: 4.06 | I7: 41 | J7: 30.25 | K7: 228 | L7: 0 | M7: =IF(COUNTIF(体测成绩!$A$2:$A$530,$F7&"")=0,"",IF(VLOOKUP($F7&"",体测成绩!$A$2:$B$530,2,FALSE)="免测",80,VLOOKUP($F7&"",体测成绩!$A$2:$B$530,2,FALSE))) | N7: =IF(OR(IFERROR(VALUE(M7)<80,FALSE),COUNTIF(缓考名单!$A$2:$A$49,$F7&"")>0,COUNTIF(缓考名单!$B$2:$B$49,#REF!)>0,IFERROR(VLOOKUP($F7&"",学年成绩!$A$2:$B$462,2,FALSE)<>"100%",FALSE)),"是","")
A8: 6 | B8: 2023 | C8: 人工智能与低空技术学院 | D8: 人工智能 | E8: 23人工智能1 | F8: 202334610113 | G8: 女 | H8: 4.01 | I8: 49 | J8: 21 | K8: 256 | L8: 0 | M8: =IF(COUNTIF(体测成绩!$A$2:$A$530,$F8&"")=0,"",IF(VLOOKUP($F8&"",体测成绩!$A$2:$B$530,2,FALSE)="免测",80,VLOOKUP($F8&"",体测成绩!$A$2:$B$530,2,FALSE))) | N8: =IF(OR(IFERROR(VALUE(M8)<80,FALSE),COUNTIF(缓考名单!$A$2:$A$49,$F8&"")>0,COUNTIF(缓考名单!$B$2:$B$49,#REF!)>0,IFERROR(VLOOKUP($F8&"",学年成绩!$A$2:$B$462,2,FALSE)<>"100%",FALSE)),"是","")
A9: 7 | B9: 2023 | C9: 人工智能与低空技术学院 | D9: 人工智能 | E9: 23人工智能1 | F9: 202334610132 | G9: 男 | H9: 4.27 | I9: 20 | J9: 21 | K9: 256 | L9: 0 | M9: =IF(COUNTIF(体测成绩!$A$2:$A$530,$F9&"")=0,"",IF(VLOOKUP($F9&"",体测成绩!$A$2:$B$530,2,FALSE)="免测",80,VLOOKUP($F9&"",体测成绩!$A$2:$B$530,2,FALSE))) | N9: =IF(OR(IFERROR(VALUE(M9)<80,FALSE),COUNTIF(缓考名单!$A$2:$A$49,$F9&"")>0,COUNTIF(缓考名单!$B$2:$B$49,#REF!)>0,IFERROR(VLOOKUP($F9&"",学年成绩!$A$2:$B$462,2,FALSE)<>"100%",FALSE)),"是","")
A10: 8 | B10: 2023 | C10: 人工智能与低空技术学院 | D10: 人工智能 | E10: 23人工智能1 | F10: 202334610131 | G10: 男 | H10: 4.34 | I10: 15 | J10: 21 | K10: 256 | L10: 0 | M10: =IF(COUNTIF(体测成绩!$A$2:$A$530,$F10&"")=0,"",IF(VLOOKUP($F10&"",体测成绩!$A$2:$B$530,2,FALSE)="免测",80,VLOOKUP($F10&"",体测成绩!$A$2:$B$530,2,FALSE))) | N10: =IF(OR(IFERROR(VALUE(M10)<80,FALSE),COUNTIF(缓考名单!$A$2:$A$49,$F10&"")>0,COUNTIF(缓考名单!$B$2:$B$49,#REF!)>0,IFERROR(VLOOKUP($F10&"",学年成绩!$A$2:$B$462,2,FALSE)<>"100%",FALSE)),"是","")
A11: 9 | B11: 2023 | C11: 人工智能与低空技术学院 | D11: 人工智能 | E11: 23人工智能1 | F11: 202334610127 | G11: 女 | H11: 4.2 | I11: 25 | J11: 31.7 | K11: 225 | L11: 0 | M11: =IF(COUNTIF(体测成绩!$A$2:$A$530,$F11&"")=0,"",IF(VLOOKUP($F11&"",体测成绩!$A$2:$B$530,2,FALSE)="免测",80,VLOOKUP($F11&"",体测成绩!$A$2:$B$530,2,FALSE))) | N11: =IF(OR(IFERROR(VALUE(M11)<80,FALSE),COUNTIF(缓考名单!$A$2:$A$49,$F11&"")>0,COUNTIF(缓考名单!$B$2:$B$49,#REF!)>0,IFERROR(VLOOKUP($F11&"",学年成绩!$A$2:$B$462,2,FALSE)<>"100%",FALSE)),"是","")
A12: 10 | B12: 2023 | C12: 人工智能与低空技术学院 | D12: 人工智能 | E12: 23人工智能1 | F12: 202334610128 | G12: 男 | H12: 4.03 | I12: 45 | J12: 24.75 | K12: 240 | L12: 0 | M12: =IF(COUNTIF(体测成绩!$A$2:$A$530,$F12&"")=0,"",IF(VLOOKUP($F12&"",体测成绩!$A$2:$B$530,2,FALSE)="免测",80,VLOOKUP($F12&"",体测成绩!$A$2:$B$530,2,FALSE))) | N12: =IF(OR(IFERROR(VALUE(M12)<80,FALSE),COUNTIF(缓考名单!$A$2:$A$49,$F12&"")>0,COUNTIF(缓考名单!$B$2:$B$49,#REF!)>0,IFERROR(VLOOKUP($F12&"",学年成绩!$A$2:$B$462,2,FALSE)<>"100%",FALSE)),"是","")
A13: 11 | B13: 2023 | C13: 人工智能与低空技术学院 | D13: 人工智能 | E13: 23人工智能1 | F13: 202334610111 | G13: 男 | H13: 3.45 | I13: 115 | J13: 21 | K13: 256 | L13: 0 | M13: =IF(COUNTIF(体测成绩!$A$2:$A$530,$F13&"")=0,"",IF(VLOOKUP($F13&"",体测成绩!$A$2:$B$530,2,FALSE)="免测",80,VLOOKUP($F13&"",体测成绩!$A$2:$B$530,2,FALSE))) | N13: =IF(OR(IFERROR(VALUE(M13)<80,FALSE),COUNTIF(缓考名单!$A$2:$A$49,$F13&"")>0,COUNTIF(缓考名单!$B$2:$B$49,#REF!)>0,IFERROR(VLOOKUP($F13&"",学年成绩!$A$2:$B$462,2,FALSE)<>"100%",FALSE)),"是","")
A14: 12 | B14: 2023 | C14: 人工智能与低空技术学院 | D14: 人工智能 | E14: 23人工智能1 | F14: 202334610110 | G14: 女 | H14: 4.46 | I14: 4 | J14: 41.6 | K14: 207 | L14: 0 | M14: =IF(COUNTIF(体测成绩!$A$2:$A$530,$F14&"")=0,"",IF(VLOOKUP($F14&"",体测成绩!$A$2:$B$530,2,FALSE)="免测",80,VLOOKUP($F14&"",体测成绩!$A$2:$B$530,2,FALSE))) | N14: =IF(OR(IFERROR(VALUE(M14)<80,FALSE),COUNTIF(缓考名单!$A$2:$A$49,$F14&"")>0,COUNTIF(缓考名单!$B$2:$B$49,#REF!)>0,IFERROR(VLOOKUP($F14&"",学年成绩!$A$2:$B$462,2,FALSE)<>"100%",FALSE)),"是","")
... A203: 201 | B203: 2024 | C203: 人工智能与低空技术学院 | D203: 人工智能 | E203: 24人工智能3 | F203: 202434610307 | G203: 男 | H203: 0 | I203: 0 | J203: 20.86 | K203: 415 | L203: 94 | M203: =IF(COUNTIF(体测成绩!$A$2:$A$530,$F203&"")=0,"",IF(VLOOKUP($F203&"",体测成绩!$A$2:$B$530,2,FALSE)="免测",80,VLOOKUP($F203&"",体测成绩!$A$2:$B$530,2,FALSE))) | N203: =IF(OR(IFERROR(VALUE(M203)<80,FALSE),COUNTIF(缓考名单!$A$2:$A$49,$F203&"")>0,COUNTIF(缓考名单!$B$2:$B$49,#REF!)>0,IFERROR(VLOOKUP($F203&"",学年成绩!$A$2:$B$462,2,FALSE)<>"100%",FALSE)),"是","")
A204: =ROW(A1) -> 1 | B204: 2025 | C204: 人工智能与低空技术学院 | D204: 电子信息科学与技术 | E204: 25电信科技3 | F204: 202534410323 | G204: 女 | H204: 4.63 | I204: 1 | J204: 98.46 | K204: =ROW()-203 -> 1 | L204: 1 | M204: =IF(COUNTIF(体测成绩!$A$2:$A$530,$F204&"")=0,"",IF(VLOOKUP($F204&"",体测成绩!$A$2:$B$530,2,FALSE)="免测",80,VLOOKUP($F204&"",体测成绩!$A$2:$B$530,2,FALSE))) -> 83.7 | N204: =IF(OR(IFERROR(VALUE(M204)<80,FALSE),COUNTIF(缓考名单!$A$2:$A$49,$F204&"")>0,COUNTIF(缓考名单!$B$2:$B$49,#REF!)>0,IFERROR(VLOOKUP($F204&"",学年成绩!$A$2:$B$462,2,FALSE)<>"100%",FALSE)),"是","") | O204: 一等奖 | P204: 吴玥
A205: =ROW(A2) -> 2 | B205: 2025 | C205: 人工智能与低空技术学院 | D205: 人工智能（昇腾AI智创班） | E205: 25人工智能(智创班)1 | F205: 202534630120 | G205: 女 | H205: 4.57 | I205: 2 | J205: 97.95 | K205: =ROW()-203 -> 2 | L205: 1 | M205: =IF(COUNTIF(体测成绩!$A$2:$A$530,$F205&"")=0,"",IF(VLOOKUP($F205&"",体测成绩!$A$2:$B$530,2,FALSE)="免测",80,VLOOKUP($F205&"",体测成绩!$A$2:$B$530,2,FALSE))) -> 86.7 | N205: =IF(OR(IFERROR(VALUE(M205)<80,FALSE),COUNTIF(缓考名单!$A$2:$A$49,$F205&"")>0,COUNTIF(缓考名单!$B$2:$B$49,#REF!)>0,IFERROR(VLOOKUP($F205&"",学年成绩!$A$2:$B$462,2,FALSE)<>"100%",FALSE)),"是","") | O205: 一等奖 | P205: 潘仕颖
A206: =ROW(A3) -> 3 | B206: 2025 | C206: 人工智能与低空技术学院 | D206: 人工智能 | E206: 25人工智能2 | F206: 202534610232 | G206: 男 | H206: 4.33 | I206: 8 | J206: 94.66 | K206: =ROW()-203 -> 3 | L206: 1 | M206: =IF(COUNTIF(体测成绩!$A$2:$A$530,$F206&"")=0,"",IF(VLOOKUP($F206&"",体测成绩!$A$2:$B$530,2,FALSE)="免测",80,VLOOKUP($F206&"",体测成绩!$A$2:$B$530,2,FALSE))) -> 84.5 | N206: =IF(OR(IFERROR(VALUE(M206)<80,FALSE),COUNTIF(缓考名单!$A$2:$A$49,$F206&"")>0,COUNTIF(缓考名单!$B$2:$B$49,#REF!)>0,IFERROR(VLOOKUP($F206&"",学年成绩!$A$2:$B$462,2,FALSE)<>"100%",FALSE)),"是","") | O206: 一等奖 | P206: 郑胜
A207: =ROW(A4) -> 4 | B207: 2025 | C207: 人工智能与低空技术学院 | D207: 人工智能 | E207: 25人工智能2 | F207: 202534610210 | G207: 女 | H207: 4.42 | I207: 4 | J207: 94.54 | K207: =ROW()-203 -> 4 | L207: 2 | M207: =IF(COUNTIF(体测成绩!$A$2:$A$530,$F207&"")=0,"",IF(VLOOKUP($F207&"",体测成绩!$A$2:$B$530,2,FALSE)="免测",80,VLOOKUP($F207&"",体测成绩!$A$2:$B$530,2,FALSE))) -> 85.6 | N207: =IF(OR(IFERROR(VALUE(M207)<80,FALSE),COUNTIF(缓考名单!$A$2:$A$49,$F207&"")>0,COUNTIF(缓考名单!$B$2:$B$49,#REF!)>0,IFERROR(VLOOKUP($F207&"",学年成绩!$A$2:$B$462,2,FALSE)<>"100%",FALSE)),"是","") -> 是 | P207: 李佳仪
A208: =ROW(A5) -> 5 | B208: 2025 | C208: 人工智能与低空技术学院 | D208: 集成电路设计与集成系统（龙芯创新班） | E208: 25集成电路(龙芯班)1 | F208: 202534720129 | G208: 女 | H208: 4.44 | I208: 2 | J208: 94.43 | K208: =ROW()-203 -> 5 | L208: 1 | M208: =IF(COUNTIF(体测成绩!$A$2:$A$530,$F208&"")=0,"",IF(VLOOKUP($F208&"",体测成绩!$A$2:$B$530,2,FALSE)="免测",80,VLOOKUP($F208&"",体测成绩!$A$2:$B$530,2,FALSE))) -> 102.0 | N208: =IF(OR(IFERROR(VALUE(M208)<80,FALSE),COUNTIF(缓考名单!$A$2:$A$49,$F208&"")>0,COUNTIF(缓考名单!$B$2:$B$49,#REF!)>0,IFERROR(VLOOKUP($F208&"",学年成绩!$A$2:$B$462,2,FALSE)<>"100%",FALSE)),"是","") | O208: 一等奖 | P208: 钟沁言
A209: =ROW(A6) -> 6 | B209: 2025 | C209: 人工智能与低空技术学院 | D209: 人工智能 | E209: 25人工智能2 | F209: 202534610202 | G209: 女 | H209: 4.45 | I209: 3 | J209: 94.39 | K209: =ROW()-203 -> 6 | L209: 3 | M209: =IF(COUNTIF(体测成绩!$A$2:$A$530,$F209&"")=0,"",IF(VLOOKUP($F209&"",体测成绩!$A$2:$B$530,2,FALSE)="免测",80,VLOOKUP($F209&"",体测成绩!$A$2:$B$530,2,FALSE))) -> 80.9 | N209: =IF(OR(IFERROR(VALUE(M209)<80,FALSE),COUNTIF(缓考名单!$A$2:$A$49,$F209&"")>0,COUNTIF(缓考名单!$B$2:$B$49,#REF!)>0,IFERROR(VLOOKUP($F209&"",学年成绩!$A$2:$B$462,2,FALSE)<>"100%",FALSE)),"是","") | O209: 一等奖 | P209: 陈思颖
A210: =ROW(A7) -> 7 | B210: 2025 | C210: 人工智能与低空技术学院 | D210: 电子信息工程 | E210: 25电信1 | F210: 202534310115 | G210: 男 | H210: 4.44 | I210: 6 | J210: 93.84 | K210: =ROW()-203 -> 7 | L210: 1 | M210: =IF(COUNTIF(体测成绩!$A$2:$A$530,$F210&"")=0,"",IF(VLOOKUP($F210&"",体测成绩!$A$2:$B$530,2,FALSE)="免测",80,VLOOKUP($F210&"",体测成绩!$A$2:$B$530,2,FALSE))) -> 70.6 | N210: =IF(OR(IFERROR(VALUE(M210)<80,FALSE),COUNTIF(缓考名单!$A$2:$A$49,$F210&"")>0,COUNTIF(缓考名单!$B$2:$B$49,#REF!)>0,IFERROR(VLOOKUP($F210&"",学年成绩!$A$2:$B$462,2,FALSE)<>"100%",FALSE)),"是","") -> 是 | P210: 林楷旭
A211: =ROW(A8) -> 8 | B211: 2025 | C211: 人工智能与低空技术学院 | D211: 集成电路设计与集成系统（龙芯创新班） | E211: 25集成电路(龙芯班)1 | F211: 202534720103 | G211: 男 | H211: 4.43 | I211: 3 | J211: 93.7 | K211: =ROW()-203 -> 8 | L211: 2 | M211: =IF(COUNTIF(体测成绩!$A$2:$A$530,$F211&"")=0,"",IF(VLOOKUP($F211&"",体测成绩!$A$2:$B$530,2,FALSE)="免测",80,VLOOKUP($F211&"",体测成绩!$A$2:$B$530,2,FALSE))) -> 82.0 | N211: =IF(OR(IFERROR(VALUE(M211)<80,FALSE),COUNTIF(缓考名单!$A$2:$A$49,$F211&"")>0,COUNTIF(缓考名单!$B$2:$B$49,#REF!)>0,IFERROR(VLOOKUP($F211&"",学年成绩!$A$2:$B$462,2,FALSE)<>"100%",FALSE)),"是","") | O211: 一等奖 | P211: 邓俊文
A212: =ROW(A9) -> 9 | B212: 2025 | C212: 人工智能与低空技术学院 | D212: 电子信息科学与技术 | E212: 25电信科技3 | F212: 202534410309 | G212: 男 | H212: 4.38 | I212: 8 | J212: 93.53 | K212: =ROW()-203 -> 9 | L212: 2 | M212: =IF(COUNTIF(体测成绩!$A$2:$A$530,$F212&"")=0,"",IF(VLOOKUP($F212&"",体测成绩!$A$2:$B$530,2,FALSE)="免测",80,VLOOKUP($F212&"",体测成绩!$A$2:$B$530,2,FALSE))) -> 85.0 | N212: =IF(OR(IFERROR(VALUE(M212)<80,FALSE),COUNTIF(缓考名单!$A$2:$A$49,$F212&"")>0,COUNTIF(缓考名单!$B$2:$B$49,#REF!)>0,IFERROR(VLOOKUP($F212&"",学年成绩!$A$2:$B$462,2,FALSE)<>"100%",FALSE)),"是","") | O212: 一等奖 | P212: 柯炫邦
A213: =ROW(A10) -> 10 | B213: 2025 | C213: 人工智能与低空技术学院 | D213: 电子信息科学与技术 | E213: 25电信科技1 | F213: 202534410111 | G213: 男 | H213: 4.36 | I213: 9 | J213: 93.5 | K213: =ROW()-203 -> 10 | L213: 3 | M213: =IF(COUNTIF(体测成绩!$A$2:$A$530,$F213&"")=0,"",IF(VLOOKUP($F213&"",体测成绩!$A$2:$B$530,2,FALSE)="免测",80,VLOOKUP($F213&"",体测成绩!$A$2:$B$530,2,FALSE))) -> 97.4 | N213: =IF(OR(IFERROR(VALUE(M213)<80,FALSE),COUNTIF(缓考名单!$A$2:$A$49,$F213&"")>0,COUNTIF(缓考名单!$B$2:$B$49,#REF!)>0,IFERROR(VLOOKUP($F213&"",学年成绩!$A$2:$B$462,2,FALSE)<>"100%",FALSE)),"是","") | O213: 一等奖 | P213: 蓝景晖
A214: 11 | B214: 2025 | C214: 人工智能与低空技术学院 | D214: 人工智能 | E214: 25人工智能1 | F214: 202534610104 | G214: 女 | H214: 4.18 | I214: 13 | J214: 92.53 | K214: =ROW()-203 -> 11 | L214: 4 | M214: =IF(COUNTIF(体测成绩!$A$2:$A$530,$F214&"")=0,"",IF(VLOOKUP($F214&"",体测成绩!$A$2:$B$530,2,FALSE)="免测",80,VLOOKUP($F214&"",体测成绩!$A$2:$B$530,2,FALSE))) -> 84.2 | N214: =IF(OR(IFERROR(VALUE(M214)<80,FALSE),COUNTIF(缓考名单!$A$2:$A$49,$F214&"")>0,COUNTIF(缓考名单!$B$2:$B$49,#REF!)>0,IFERROR(VLOOKUP($F214&"",学年成绩!$A$2:$B$462,2,FALSE)<>"100%",FALSE)),"是","") | O214: 一等奖 | P214: 陈晓非
A215: 12 | B215: 2025 | C215: 人工智能与低空技术学院 | D215: 人工智能 | E215: 25人工智能1 | F215: 202534610120 | G215: 女 | H215: 4.13 | I215: 16 | J215: 92.06 | K215: =ROW()-203 -> 12 | L215: 5 | M215: =IF(COUNTIF(体测成绩!$A$2:$A$530,$F215&"")=0,"",IF(VLOOKUP($F215&"",体测成绩!$A$2:$B$530,2,FALSE)="免测",80,VLOOKUP($F215&"",体测成绩!$A$2:$B$530,2,FALSE))) -> 88.5 | N215: =IF(OR(IFERROR(VALUE(M215)<80,FALSE),COUNTIF(缓考名单!$A$2:$A$49,$F215&"")>0,COUNTIF(缓考名单!$B$2:$B$49,#REF!)>0,IFERROR(VLOOKUP($F215&"",学年成绩!$A$2:$B$462,2,FALSE)<>"100%",FALSE)),"是","") | O215: 一等奖 | P215: 吴心怡
A216: =ROW(A13) -> 13 | B216: 2025 | C216: 人工智能与低空技术学院 | D216: 电子信息工程（数字技术创新班） | E216: 25电信(创新班)1 | F216: 202534310211 | G216: 男 | H216: 4.26 | I216: 10 | J216: 91.79 | K216: =ROW()-203 -> 13 | L216: =ROW(A1) -> 1 | M216: =IF(COUNTIF(体测成绩!$A$2:$A$530,$F216&"")=0,"",IF(VLOOKUP($F216&"",体测成绩!$A$2:$B$530,2,FALSE)="免测",80,VLOOKUP($F216&"",体测成绩!$A$2:$B$530,2,FALSE))) -> 90.8 | N216: =IF(OR(IFERROR(VALUE(M216)<80,FALSE),COUNTIF(缓考名单!$A$2:$A$49,$F216&"")>0,COUNTIF(缓考名单!$B$2:$B$49,#REF!)>0,IFERROR(VLOOKUP($F216&"",学年成绩!$A$2:$B$462,2,FALSE)<>"100%",FALSE)),"是","") | O216: 一等奖 | P216: 黎浩琛
A217: =ROW(A14) -> 14 | B217: 2025 | C217: 人工智能与低空技术学院 | D217: 电子信息工程（数字技术创新班） | E217: 25电信(创新班)1 | F217: 202534320129 | G217: 女 | H217: 4.5 | I217: 1 | J217: 91.76 | K217: =ROW()-203 -> 14 | L217: 2 | M217: =IF(COUNTIF(体测成绩!$A$2:$A$530,$F217&"")=0,"",IF(VLOOKUP($F217&"",体测成绩!$A$2:$B$530,2,FALSE)="免测",80,VLOOKUP($F217&"",体测成绩!$A$2:$B$530,2,FALSE))) -> 87.2 | N217: =IF(OR(IFERROR(VALUE(M217)<80,FALSE),COUNTIF(缓考名单!$A$2:$A$49,$F217&"")>0,COUNTIF(缓考名单!$B$2:$B$49,#REF!)>0,IFERROR(VLOOKUP($F217&"",学年成绩!$A$2:$B$462,2,FALSE)<>"100%",FALSE)),"是","") | O217: 二等奖 | P217: 周瑾瑶
A218: =ROW(A15) -> 15 | B218: 2025 | C218: 人工智能与低空技术学院 | D218: 电子信息工程（数字技术创新班） | E218: 25电信(创新班)1 | F218: 202534320115 | G218: 女 | H218: 4.33 | I218: 6 | J218: 91.64 | K218: =ROW()-203 -> 15 | L218: =ROW(A3) -> 3 | M218: =IF(COUNTIF(体测成绩!$A$2:$A$530,$F218&"")=0,"",IF(VLOOKUP($F218&"",体测成绩!$A$2:$B$530,2,FALSE)="免测",80,VLOOKUP($F218&"",体测成绩!$A$2:$B$530,2,FALSE))) -> 79.9 | N218: =IF(OR(IFERROR(VALUE(M218)<80,FALSE),COUNTIF(缓考名单!$A$2:$A$49,$F218&"")>0,COUNTIF(缓考名单!$B$2:$B$49,#REF!)>0,IFERROR(VLOOKUP($F218&"",学年成绩!$A$2:$B$462,2,FALSE)<>"100%",FALSE)),"是","") -> 是 | P218: 梁晴晴
A219: =ROW(A16) -> 16 | B219: 2025 | C219: 人工智能与低空技术学院 | D219: 电子信息工程（数字技术创新班） | E219: 25电信(创新班)1 | F219: 202534320120 | G219: 男 | H219: 4.31 | I219: 7 | J219: 91.63 | K219: =ROW()-203 -> 16 | L219: =ROW(A4) -> 4 | M219: =IF(COUNTIF(体测成绩!$A$2:$A$530,$F219&"")=0,"",IF(VLOOKUP($F219&"",体测成绩!$A$2:$B$530,2,FALSE)="免测",80,VLOOKUP($F219&"",体测成绩!$A$2:$B$530,2,FALSE))) -> 89.8 | N219: =IF(OR(IFERROR(VALUE(M219)<80,FALSE),COUNTIF(缓考名单!$A$2:$A$49,$F219&"")>0,COUNTIF(缓考名单!$B$2:$B$49,#REF!)>0,IFERROR(VLOOKUP($F219&"",学年成绩!$A$2:$B$462,2,FALSE)<>"100%",FALSE)),"是","") | O219: 二等奖 | P219: 刘益霖
A220: =ROW(A17) -> 17 | B220: 2025 | C220: 人工智能与低空技术学院 | D220: 光电信息科学与工程 | E220: 25光信息3 | F220: 202534510312 | G220: 女 | H220: 4.47 | I220: 3 | J220: 91 | K220: =ROW()-203 -> 17 | L220: 1 | M220: =IF(COUNTIF(体测成绩!$A$2:$A$530,$F220&"")=0,"",IF(VLOOKUP($F220&"",体测成绩!$A$2:$B$530,2,FALSE)="免测",80,VLOOKUP($F220&"",体测成绩!$A$2:$B$530,2,FALSE))) -> 82.7 | N220: =IF(OR(IFERROR(VALUE(M220)<80,FALSE),COUNTIF(缓考名单!$A$2:$A$49,$F220&"")>0,COUNTIF(缓考名单!$B$2:$B$49,#REF!)>0,IFERROR(VLOOKUP($F220&"",学年成绩!$A$2:$B$462,2,FALSE)<>"100%",FALSE)),"是","") | O220: 二等奖 | P220: 蒋淑仪
A221: =ROW(A18) -> 18 | B221: 2025 | C221: 人工智能与低空技术学院 | D221: 电子信息工程（数字技术创新班） | E221: 25电信(创新班)1 | F221: 202534320118 | G221: 女 | H221: 4.38 | I221: 5 | J221: 90.98 | K221: =ROW()-203 -> 18 | L221: =ROW(A5) -> 5 | M221: =IF(COUNTIF(体测成绩!$A$2:$A$530,$F221&"")=0,"",IF(VLOOKUP($F221&"",体测成绩!$A$2:$B$530,2,FALSE)="免测",80,VLOOKUP($F221&"",体测成绩!$A$2:$B$530,2,FALSE))) -> 89.6 | N221: =IF(OR(IFERROR(VALUE(M221)<80,FALSE),COUNTIF(缓考名单!$A$2:$A$49,$F221&"")>0,COUNTIF(缓考名单!$B$2:$B$49,#REF!)>0,IFERROR(VLOOKUP($F221&"",学年成绩!$A$2:$B$462,2,FALSE)<>"100%",FALSE)),"是","") | O221: 二等奖 | P221: 刘家悦
A222: =ROW(A19) -> 19 | B222: 2025 | C222: 人工智能与低空技术学院 | D222: 电子信息工程（数字技术创新班） | E222: 25电信(创新班)1 | F222: 202534320103 | G222: 女 | H222: 4.41 | I222: 3 | J222: 90.47 | K222: =ROW()-203 -> 19 | L222: =ROW(A6) -> 6 | M222: =IF(COUNTIF(体测成绩!$A$2:$A$530,$F222&"")=0,"",IF(VLOOKUP($F222&"",体测成绩!$A$2:$B$530,2,FALSE)="免测",80,VLOOKUP($F222&"",体测成绩!$A$2:$B$530,2,FALSE))) -> 82.0 | N222: =IF(OR(IFERROR(VALUE(M222)<80,FALSE),COUNTIF(缓考名单!$A$2:$A$49,$F222&"")>0,COUNTIF(缓考名单!$B$2:$B$49,#REF!)>0,IFERROR(VLOOKUP($F222&"",学年成绩!$A$2:$B$462,2,FALSE)<>"100%",FALSE)),"是","") | O222: 二等奖 | P222: 陈奕丹
A223: =ROW(A20) -> 20 | B223: 2025 | C223: 人工智能与低空技术学院 | D223: 人工智能 | E223: 25人工智能2 | F223: 202533140121 | G223: 女 | H223: 4.33 | I223: 9 | J223: 90.25 | K223: =ROW()-203 -> 20 | L223: 6 | M223: 91 | N223: =IF(OR(IFERROR(VALUE(M223)<80,FALSE),COUNTIF(缓考名单!$A$2:$A$49,$F223&"")>0,COUNTIF(缓考名单!$B$2:$B$49,#REF!)>0,IFERROR(VLOOKUP($F223&"",学年成绩!$A$2:$B$462,2,FALSE)<>"100%",FALSE)),"是","") | O223: 二等奖 | P223: 吴睿妮
A224: =ROW(A21) -> 21 | B224: 2025 | C224: 人工智能与低空技术学院 | D224: 人工智能（昇腾AI智创班） | E224: 25人工智能(智创班)1 | F224: 202534630103 | G224: 女 | H224: 4.5 | I224: 3 | J224: 90.23 | K224: =ROW()-203 -> 21 | L224: 2 | M224: =IF(COUNTIF(体测成绩!$A$2:$A$530,$F224&"")=0,"",IF(VLOOKUP($F224&"",体测成绩!$A$2:$B$530,2,FALSE)="免测",80,VLOOKUP($F224&"",体测成绩!$A$2:$B$530,2,FALSE))) -> 83.4 | N224: =IF(OR(IFERROR(VALUE(M224)<80,FALSE),COUNTIF(缓考名单!$A$2:$A$49,$F224&"")>0,COUNTIF(缓考名单!$B$2:$B$49,#REF!)>0,IFERROR(VLOOKUP($F224&"",学年成绩!$A$2:$B$462,2,FALSE)<>"100%",FALSE)),"是","") | O224: 二等奖 | P224: 陈燕芳
A225: =ROW(A22) -> 22 | B225: 2025 | C225: 人工智能与低空技术学院 | D225: 电子信息工程（数字技术创新班） | E225: 25电信(创新班)1 | F225: 202534320108 | G225: 女 | H225: 4.46 | I225: 2 | J225: 90.1 | K225: =ROW()-203 -> 22 | L225: 7 | M225: =IF(COUNTIF(体测成绩!$A$2:$A$530,$F225&"")=0,"",IF(VLOOKUP($F225&"",体测成绩!$A$2:$B$530,2,FALSE)="免测",80,VLOOKUP($F225&"",体测成绩!$A$2:$B$530,2,FALSE))) -> 80.6 | N225: =IF(OR(IFERROR(VALUE(M225)<80,FALSE),COUNTIF(缓考名单!$A$2:$A$49,$F225&"")>0,COUNTIF(缓考名单!$B$2:$B$49,#REF!)>0,IFERROR(VLOOKUP($F225&"",学年成绩!$A$2:$B$462,2,FALSE)<>"100%",FALSE)),"是","") | O225: 二等奖 | P225: 何梓君
A226: =ROW(A23) -> 23 | B226: 2025 | C226: 人工智能与低空技术学院 | D226: 人工智能 | E226: 25人工智能2 | F226: 202534610227 | G226: 男 | H226: 4.41 | I226: 5 | J226: 90.01 | K226: =ROW()-203 -> 23 | L226: 7 | M226: =IF(COUNTIF(体测成绩!$A$2:$A$530,$F226&"")=0,"",IF(VLOOKUP($F226&"",体测成绩!$A$2:$B$530,2,FALSE)="免测",80,VLOOKUP($F226&"",体测成绩!$A$2:$B$530,2,FALSE))) -> 95.2 | N226: =IF(OR(IFERROR(VALUE(M226)<80,FALSE),COUNTIF(缓考名单!$A$2:$A$49,$F226&"")>0,COUNTIF(缓考名单!$B$2:$B$49,#REF!)>0,IFERROR(VLOOKUP($F226&"",学年成绩!$A$2:$B$462,2,FALSE)<>"100%",FALSE)),"是","") | O226: 二等奖 | P226: 吴兴明
A227: =ROW(A24) -> 24 | B227: 2025 | C227: 人工智能与低空技术学院 | D227: 电子信息工程 | E227: 25电信3 | F227: 202534310303 | G227: 男 | H227: 4.12 | I227: 22 | J227: 88.95 | K227: =ROW()-203 -> 24 | L227: 2 | M227: =IF(COUNTIF(体测成绩!$A$2:$A$530,$F227&"")=0,"",IF(VLOOKUP($F227&"",体测成绩!$A$2:$B$530,2,FALSE)="免测",80,VLOOKUP($F227&"",体测成绩!$A$2:$B$530,2,FALSE))) -> 84.1 | N227: =IF(OR(IFERROR(VALUE(M227)<80,FALSE),COUNTIF(缓考名单!$A$2:$A$49,$F227&"")>0,COUNTIF(缓考名单!$B$2:$B$49,#REF!)>0,IFERROR(VLOOKUP($F227&"",学年成绩!$A$2:$B$462,2,FALSE)<>"100%",FALSE)),"是","") | O227: 二等奖 | P227: 陈圳华
A228: =ROW(A25) -> 25 | B228: 2025 | C228: 人工智能与低空技术学院 | D228: 人工智能 | E228: 25人工智能2 | F228: 202534610224 | G228: 女 | H228: 4.48 | I228: 1 | J228: 88.42 | K228: =ROW()-203 -> 25 | L228: 8 | M228: =IF(COUNTIF(体测成绩!$A$2:$A$530,$F228&"")=0,"",IF(VLOOKUP($F228&"",体测成绩!$A$2:$B$530,2,FALSE)="免测",80,VLOOKUP($F228&"",体测成绩!$A$2:$B$530,2,FALSE))) -> 80.2 | N228: =IF(OR(IFERROR(VALUE(M228)<80,FALSE),COUNTIF(缓考名单!$A$2:$A$49,$F228&"")>0,COUNTIF(缓考名单!$B$2:$B$49,#REF!)>0,IFERROR(VLOOKUP($F228&"",学年成绩!$A$2:$B$462,2,FALSE)<>"100%",FALSE)),"是","") | O228: 二等奖 | P228: 宋可裙
A229: =ROW(A26) -> 26 | B229: 2025 | C229: 人工智能与低空技术学院 | D229: 电子信息工程 | E229: 25电信2 | F229: 202534310214 | G229: 女 | H229: 4.61 | I229: 1 | J229: 88.25 | K229: =ROW()-203 -> 26 | L229: 3 | M229: =IF(COUNTIF(体测成绩!$A$2:$A$530,$F229&"")=0,"",IF(VLOOKUP($F229&"",体测成绩!$A$2:$B$530,2,FALSE)="免测",80,VLOOKUP($F229&"",体测成绩!$A$2:$B$530,2,FALSE))) -> 88.1 | N229: =IF(OR(IFERROR(VALUE(M229)<80,FALSE),COUNTIF(缓考名单!$A$2:$A$49,$F229&"")>0,COUNTIF(缓考名单!$B$2:$B$49,#REF!)>0,IFERROR(VLOOKUP($F229&"",学年成绩!$A$2:$B$462,2,FALSE)<>"100%",FALSE)),"是","") | O229: 二等奖 | P229: 李颖
...

Sheet 缓考名单
A1: 学号 | B1: 姓名
A2: 202534630125 | B2: 叶俊豪
A3: 202434410232 | B3: 周勇
A4: 202328110104 | B4: 党浩诚
A5: 202534720102 | B5: 陈杏儿
A6: 202534710128 | B6: 魏铄
A7: 202534710128 | B7: 魏铄
A8: 202434610222 | B8: 王义深
A9: 202234510224 | B9: 吴子骥
A10: 202434310419 | B10: 罗舒元
A11: 202434510126 | B11: 徐靖雯
A12: 202334510220 | B12: 乔丹忆
... A49: 202534720102 | B49: 陈杏儿

Sheet 学年成绩
A1: 学号 | B1: 通过率
A2: 202534310212 | B2: 100%
A3: 202534510105 | B3: 100%
A4: 202534710216 | B4: 100%
A5: 202534320117 | B5: 100%
A6: 202519110311 | B6: 100%
A7: 202534410312 | B7: 100%
A8: 202534610207 | B8: 100%
A9: 202534410114 | B9: 100%
A10: 202534410309 | B10: 100%
A11: 202534710116 | B11: 100%
A12: 202534720119 | B12: 100%
... A462: 202534610214 | B462: 85.71%

Sheet 体测成绩
A1: 学号 | B1: 总分
A2: 202534510230 | B2: 75.3
A3: 202534410215 | B3: 62.4
A4: 202534320102 | B4: 68.8
A5: 202534510131 | B5: 85.8
A6: 202534510113 | B6: 69.4
A7: 202534510306 | B7: 61.4
A8: 202534310223 | B8: 86.2
A9: 202534310318 | B9: 73.6
A10: 202534610231 | B10: 50.1
A11: 202534310105 | B11: 87.2
A12: 202534610206 | B12: 82.8
... A25: 202534310101 | B25: 75.4
A26: 202534710202
A27: 202534710119 | B27: 76.8
A28: 202534410214 | B28: 83.3
A29: 202534710113 | B29: 73.2
A30: 202534510220 | B30: 82.3
A31: 202534410118 | B31: 68.5
A32: 202534610213 | B32: 80.2
A33: 202534610106
A34: 202534710118 | B34: 74.4
A35: 202534630118 | B35: 83.1
A36: 202534310126 | B36: 67.5
A37: 202534710205 | B37: 87.1
A38: 202534320108 | B38: 80.6
A39: 202534310213 | B39: 82.8
A40: 202534310308 | B40: 93.0
A41: 202534710210
A42: 202534610215 | B42: 86.9
A43: 202534410225 | B43: 73.5
A44: 202534630115 | B44: 65.4
A45: 202534510218 | B45: 85.3
A46: 202534720114 | B46: 66.6
A47: 202534510322 | B47: 76.8
A48: 202534310207 | B48: 56.7
A49: 202534510116 | B49: 97.9
A50: 202534310220 | B50: 73.5
A51: 202534510106 | B51: 80.5
A52: 202534630105 | B52: 66.6
...
